Workbook

Sheet Cap Ex-20 Years
J1: Annual CPI | K1: 0.035 | L1: 0.03 | M1: 0.03 | N1: 0.03 | O1: 0.03 | P1: 0.03 | Q1: 0.03 | R1: 0.03 | S1: 0.03 | T1: 0.03 | U1: 0.03 | V1: 0.03 | W1: 0.03 | X1: 0.03 | Y1: 0.03 | Z1: 0.03 | AA1: 0.03 | AB1: 0.03 | AC1: 0.03 | AD1: 0.03
J2: Aggregate CPI | K2: =(1+K1) -> 1.035 | L2: =K2*(1+L1) -> 1.06605 | M2: =L2*(1+M1) -> 1.0980315 | N2: =M2*(1+N1) -> 1.1309724 | O2: =N2*(1+O1) -> 1.1649016 | P2: =O2*(1+P1) -> 1.1998487 | Q2: =P2*(1+Q1) -> 1.2358441 | R2: =Q2*(1+R1) -> 1.2729195 | S2: =R2*(1+S1) -> 1.311107 | ... AD2: =AC2*(1+AD1) -> 1.8148788
A4: Moda Center 20 Year Capital Plan | K4: 2025 | L4: =+K4+1 -> 2026 | M4: =+L4+1 -> 2027 | N4: =+M4+1 -> 2028 | O4: =+N4+1 -> 2029 | P4: =+O4+1 -> 2030 | Q4: =+P4+1 -> 2031 | R4: =+Q4+1 -> 2032 | S4: =+R4+1 -> 2033 | ... AD4: =+AC4+1 -> 2044
A5: Grouping | B5: Item | C5: Location (Level) | D5: Subcategory 1 | E5: Subcategory 2 | F5: Priority | G5: First Year of Replacement (# of years from 2024) | H5: First Year of Replacement (Year) | I5: Frequency of repairs & replacement in years | J5: Estimated Cost per occurrence in 2024 Dollars | K5: Year 1 | L5: Year 2 | M5: Year 3 | N5: Year 4 | O5: Year 5 | P5: Year 6 | Q5: Year 7 | R5: Year 8 | S5: Year 9 | T5: Year 10 | U5: Year 11 | V5: Year 12 | W5: Year 13 | X5: Year 14 | Y5: Year 15 | Z5: Year 16 | AA5: Year 17 | AB5: Year 18 | AC5: Year 19 | AD5: Year 20 | AE5: Total Cost
A6: Architecture & Interiors | B6: Locker Rooms - A,B, and C | C6: Service Level | D6: Refresh | E6: Locker Room interior finishes, fixtures, furniture, and equipment | F6: High | G6: =H6-2024 -> 2 | H6: 2026 | I6: 10 | J6: =Costs!P4 -> 414963 | K6: {=IF(_xlfn.SWITCH(TRUE,COLUMN()-COLUMN($J$5)-$G6<0,FALSE,MOD(COLUMN()-COLUMN($J$5)-$G6,$I6)=0,TRUE,FALSE),$J6*K$2,0)} -> 0 | L6: {=IF(_xlfn.SWITCH(TRUE,COLUMN()-COLUMN($J$5)-$G6<0,FALSE,MOD(COLUMN()-COLUMN($J$5)-$G6,$I6)=0,TRUE,FALSE),$J6*L$2,0)} -> 442371.31 | M6: {=IF(_xlfn.SWITCH(TRUE,COLUMN()-COLUMN($J$5)-$G6<0,FALSE,MOD(COLUMN()-COLUMN($J$5)-$G6,$I6)=0,TRUE,FALSE),$J6*M$2,0)} -> 0 | N6: {=IF(_xlfn.SWITCH(TRUE,COLUMN()-COLUMN($J$5)-$G6<0,FALSE,MOD(COLUMN()-COLUMN($J$5)-$G6,$I6)=0,TRUE,FALSE),$J6*N$2,0)} -> 0 | O6: {=IF(_xlfn.SWITCH(TRUE,COLUMN()-COLUMN($J$5)-$G6<0,FALSE,MOD(COLUMN()-COLUMN($J$5)-$G6,$I6)=0,TRUE,FALSE),$J6*O$2,0)} -> 0 | P6: {=IF(_xlfn.SWITCH(TRUE,COLUMN()-COLUMN($J$5)-$G6<0,FALSE,MOD(COLUMN()-COLUMN($J$5)-$G6,$I6)=0,TRUE,FALSE),$J6*P$2,0)} -> 0 | Q6: {=IF(_xlfn.SWITCH(TRUE,COLUMN()-COLUMN($J$5)-$G6<0,FALSE,MOD(COLUMN()-COLUMN($J$5)-$G6,$I6)=0,TRUE,FALSE),$J6*Q$2,0)} -> 0 | R6: {=IF(_xlfn.SWITCH(TRUE,COLUMN()-COLUMN($J$5)-$G6<0,FALSE,MOD(COLUMN()-COLUMN($J$5)-$G6,$I6)=0,TRUE,FALSE),$J6*R$2,0)} -> 0 | ... AD6: {=IF(_xlfn.SWITCH(TRUE,COLUMN()-COLUMN($J$5)-$G6<0,FALSE,MOD(COLUMN()-COLUMN($J$5)-$G6,$I6)=0,TRUE,FALSE),$J6*AD$2,0)} -> 0 | AE6: =SUM(K6:AD6) -> 1036881.4
A7: Architecture & Interiors | B7: Media Room | C7: Service Level | D7: Refresh | E7: Interior Finishes, ceiling, paint, flooring | F7: Medium | G7: =H7-2024 -> 5 | H7: 2029 | I7: 15 | J7: =Costs!P5 -> 259929 | K7: {=IF(_xlfn.SWITCH(TRUE,COLUMN()-COLUMN($J$5)-$G7<0,FALSE,MOD(COLUMN()-COLUMN($J$5)-$G7,$I7)=0,TRUE,FALSE),$J7*K$2,0)} -> 0 | L7: {=IF(_xlfn.SWITCH(TRUE,COLUMN()-COLUMN($J$5)-$G7<0,FALSE,MOD(COLUMN()-COLUMN($J$5)-$G7,$I7)=0,TRUE,FALSE),$J7*L$2,0)} -> 0 | M7: {=IF(_xlfn.SWITCH(TRUE,COLUMN()-COLUMN($J$5)-$G7<0,FALSE,MOD(COLUMN()-COLUMN($J$5)-$G7,$I7)=0,TRUE,FALSE),$J7*M$2,0)} -> 0 | N7: {=IF(_xlfn.SWITCH(TRUE,COLUMN()-COLUMN($J$5)-$G7<0,FALSE,MOD(COLUMN()-COLUMN($J$5)-$G7,$I7)=0,TRUE,FALSE),$J7*N$2,0)} -> 0 | O7: {=IF(_xlfn.SWITCH(TRUE,COLUMN()-COLUMN($J$5)-$G7<0,FALSE,MOD(COLUMN()-COLUMN($J$5)-$G7,$I7)=0,TRUE,FALSE),$J7*O$2,0)} -> 302791.71 | P7: {=IF(_xlfn.SWITCH(TRUE,COLUMN()-COLUMN($J$5)-$G7<0,FALSE,MOD(COLUMN()-COLUMN($J$5)-$G7,$I7)=0,TRUE,FALSE),$J7*P$2,0)} -> 0 | Q7: {=IF(_xlfn.SWITCH(TRUE,COLUMN()-COLUMN($J$5)-$G7<0,FALSE,MOD(COLUMN()-COLUMN($J$5)-$G7,$I7)=0,TRUE,FALSE),$J7*Q$2,0)} -> 0 | R7: {=IF(_xlfn.SWITCH(TRUE,COLUMN()-COLUMN($J$5)-$G7<0,FALSE,MOD(COLUMN()-COLUMN($J$5)-$G7,$I7)=0,TRUE,FALSE),$J7*R$2,0)} -> 0 | ... AD7: {=IF(_xlfn.SWITCH(TRUE,COLUMN()-COLUMN($J$5)-$G7<0,FALSE,MOD(COLUMN()-COLUMN($J$5)-$G7,$I7)=0,TRUE,FALSE),$J7*AD$2,0)} -> 471739.62 | AE7: =SUM(K7:AD7) -> 774531.34
A8: Architecture & Interiors | B8: Locker Room Corridor | C8: Service Level | D8: Refresh | E8: Paint and Flooring | F8: High | G8: =H8-2024 -> 2 | H8: 2026 | I8: 10 | J8: =Costs!P6 -> 42174 | K8: {=IF(_xlfn.SWITCH(TRUE,COLUMN()-COLUMN($J$5)-$G8<0,FALSE,MOD(COLUMN()-COLUMN($J$5)-$G8,$I8)=0,TRUE,FALSE),$J8*K$2,0)} -> 0 | L8: {=IF(_xlfn.SWITCH(TRUE,COLUMN()-COLUMN($J$5)-$G8<0,FALSE,MOD(COLUMN()-COLUMN($J$5)-$G8,$I8)=0,TRUE,FALSE),$J8*L$2,0)} -> 44959.593 | M8: {=IF(_xlfn.SWITCH(TRUE,COLUMN()-COLUMN($J$5)-$G8<0,FALSE,MOD(COLUMN()-COLUMN($J$5)-$G8,$I8)=0,TRUE,FALSE),$J8*M$2,0)} -> 0 | N8: {=IF(_xlfn.SWITCH(TRUE,COLUMN()-COLUMN($J$5)-$G8<0,FALSE,MOD(COLUMN()-COLUMN($J$5)-$G8,$I8)=0,TRUE,FALSE),$J8*N$2,0)} -> 0 | O8: {=IF(_xlfn.SWITCH(TRUE,COLUMN()-COLUMN($J$5)-$G8<0,FALSE,MOD(COLUMN()-COLUMN($J$5)-$G8,$I8)=0,TRUE,FALSE),$J8*O$2,0)} -> 0 | P8: {=IF(_xlfn.SWITCH(TRUE,COLUMN()-COLUMN($J$5)-$G8<0,FALSE,MOD(COLUMN()-COLUMN($J$5)-$G8,$I8)=0,TRUE,FALSE),$J8*P$2,0)} -> 0 | Q8: {=IF(_xlfn.SWITCH(TRUE,COLUMN()-COLUMN($J$5)-$G8<0,FALSE,MOD(COLUMN()-COLUMN($J$5)-$G8,$I8)=0,TRUE,FALSE),$J8*Q$2,0)} -> 0 | R8: {=IF(_xlfn.SWITCH(TRUE,COLUMN()-COLUMN($J$5)-$G8<0,FALSE,MOD(COLUMN()-COLUMN($J$5)-$G8,$I8)=0,TRUE,FALSE),$J8*R$2,0)} -> 0 | ... AD8: {=IF(_xlfn.SWITCH(TRUE,COLUMN()-COLUMN($J$5)-$G8<0,FALSE,MOD(COLUMN()-COLUMN($J$5)-$G8,$I8)=0,TRUE,FALSE),$J8*AD$2,0)} -> 0 | AE8: =SUM(K8:AD8) -> 105381.53
A9: Architecture & Interiors | B9: Visiting Press | C9: Service Level | D9: Refresh | E9: Interior Finishes, ceiling, paint, flooring | F9: Medium | G9: =H9-2024 -> 5 | H9: 2029 | I9: 15 | J9: =Costs!P7 -> 40500 | K9: {=IF(_xlfn.SWITCH(TRUE,COLUMN()-COLUMN($J$5)-$G9<0,FALSE,MOD(COLUMN()-COLUMN($J$5)-$G9,$I9)=0,TRUE,FALSE),$J9*K$2,0)} -> 0 | L9: {=IF(_xlfn.SWITCH(TRUE,COLUMN()-COLUMN($J$5)-$G9<0,FALSE,MOD(COLUMN()-COLUMN($J$5)-$G9,$I9)=0,TRUE,FALSE),$J9*L$2,0)} -> 0 | M9: {=IF(_xlfn.SWITCH(TRUE,COLUMN()-COLUMN($J$5)-$G9<0,FALSE,MOD(COLUMN()-COLUMN($J$5)-$G9,$I9)=0,TRUE,FALSE),$J9*M$2,0)} -> 0 | N9: {=IF(_xlfn.SWITCH(TRUE,COLUMN()-COLUMN($J$5)-$G9<0,FALSE,MOD(COLUMN()-COLUMN($J$5)-$G9,$I9)=0,TRUE,FALSE),$J9*N$2,0)} -> 0 | O9: {=IF(_xlfn.SWITCH(TRUE,COLUMN()-COLUMN($J$5)-$G9<0,FALSE,MOD(COLUMN()-COLUMN($J$5)-$G9,$I9)=0,TRUE,FALSE),$J9*O$2,0)} -> 47178.516 | P9: {=IF(_xlfn.SWITCH(TRUE,COLUMN()-COLUMN($J$5)-$G9<0,FALSE,MOD(COLUMN()-COLUMN($J$5)-$G9,$I9)=0,TRUE,FALSE),$J9*P$2,0)} -> 0 | Q9: {=IF(_xlfn.SWITCH(TRUE,COLUMN()-COLUMN($J$5)-$G9<0,FALSE,MOD(COLUMN()-COLUMN($J$5)-$G9,$I9)=0,TRUE,FALSE),$J9*Q$2,0)} -> 0 | R9: {=IF(_xlfn.SWITCH(TRUE,COLUMN()-COLUMN($J$5)-$G9<0,FALSE,MOD(COLUMN()-COLUMN($J$5)-$G9,$I9)=0,TRUE,FALSE),$J9*R$2,0)} -> 0 | ... AD9: {=IF(_xlfn.SWITCH(TRUE,COLUMN()-COLUMN($J$5)-$G9<0,FALSE,MOD(COLUMN()-COLUMN($J$5)-$G9,$I9)=0,TRUE,FALSE),$J9*AD$2,0)} -> 73502.59 | AE9: =SUM(K9:AD9) -> 120681.11
A10: Architecture & Interiors | B10: Trail Blazer's Family Room | C10: Service Level | D10: Reconfiguration/ Renovation | E10: Interior Renovation | F10: Medium | G10: =H10-2024 -> 5 | H10: 2029 | I10: 20 | J10: =Costs!P8 -> 358425 | K10: {=IF(_xlfn.SWITCH(TRUE,COLUMN()-COLUMN($J$5)-$G10<0,FALSE,MOD(COLUMN()-COLUMN($J$5)-$G10,$I10)=0,TRUE,FALSE),$J10*K$2,0)} -> 0 | L10: {=IF(_xlfn.SWITCH(TRUE,COLUMN()-COLUMN($J$5)-$G10<0,FALSE,MOD(COLUMN()-COLUMN($J$5)-$G10,$I10)=0,TRUE,FALSE),$J10*L$2,0)} -> 0 | M10: {=IF(_xlfn.SWITCH(TRUE,COLUMN()-COLUMN($J$5)-$G10<0,FALSE,MOD(COLUMN()-COLUMN($J$5)-$G10,$I10)=0,TRUE,FALSE),$J10*M$2,0)} -> 0 | N10: {=IF(_xlfn.SWITCH(TRUE,COLUMN()-COLUMN($J$5)-$G10<0,FALSE,MOD(COLUMN()-COLUMN($J$5)-$G10,$I10)=0,TRUE,FALSE),$J10*N$2,0)} -> 0 | O10: {=IF(_xlfn.SWITCH(TRUE,COLUMN()-COLUMN($J$5)-$G10<0,FALSE,MOD(COLUMN()-COLUMN($J$5)-$G10,$I10)=0,TRUE,FALSE),$J10*O$2,0)} -> 417529.86 | P10: {=IF(_xlfn.SWITCH(TRUE,COLUMN()-COLUMN($J$5)-$G10<0,FALSE,MOD(COLUMN()-COLUMN($J$5)-$G10,$I10)=0,TRUE,FALSE),$J10*P$2,0)} -> 0 | Q10: {=IF(_xlfn.SWITCH(TRUE,COLUMN()-COLUMN($J$5)-$G10<0,FALSE,MOD(COLUMN()-COLUMN($J$5)-$G10,$I10)=0,TRUE,FALSE),$J10*Q$2,0)} -> 0 | R10: {=IF(_xlfn.SWITCH(TRUE,COLUMN()-COLUMN($J$5)-$G10<0,FALSE,MOD(COLUMN()-COLUMN($J$5)-$G10,$I10)=0,TRUE,FALSE),$J10*R$2,0)} -> 0 | ... AD10: {=IF(_xlfn.SWITCH(TRUE,COLUMN()-COLUMN($J$5)-$G10<0,FALSE,MOD(COLUMN()-COLUMN($J$5)-$G10,$I10)=0,TRUE,FALSE),$J10*AD$2,0)} -> 0 | AE10: =SUM(K10:AD10) -> 417529.86
A11: Architecture & Interiors | B11: Trail Blazer's Locker Room & Team Areas | C11: Service Level | D11: Reconfiguration/ Renovation | E11: Interior Renovation | F11: Medium | G11: =H11-2024 -> 5 | H11: 2029 | I11: 15 | J11: =Costs!P9 -> 5292540 | K11: {=IF(_xlfn.SWITCH(TRUE,COLUMN()-COLUMN($J$5)-$G11<0,FALSE,MOD(COLUMN()-COLUMN($J$5)-$G11,$I11)=0,TRUE,FALSE),$J11*K$2,0)} -> 0 | L11: {=IF(_xlfn.SWITCH(TRUE,COLUMN()-COLUMN($J$5)-$G11<0,FALSE,MOD(COLUMN()-COLUMN($J$5)-$G11,$I11)=0,TRUE,FALSE),$J11*L$2,0)} -> 0 | M11: {=IF(_xlfn.SWITCH(TRUE,COLUMN()-COLUMN($J$5)-$G11<0,FALSE,MOD(COLUMN()-COLUMN($J$5)-$G11,$I11)=0,TRUE,FALSE),$J11*M$2,0)} -> 0 | N11: {=IF(_xlfn.SWITCH(TRUE,COLUMN()-COLUMN($J$5)-$G11<0,FALSE,MOD(COLUMN()-COLUMN($J$5)-$G11,$I11)=0,TRUE,FALSE),$J11*N$2,0)} -> 0 | O11: {=IF(_xlfn.SWITCH(TRUE,COLUMN()-COLUMN($J$5)-$G11<0,FALSE,MOD(COLUMN()-COLUMN($J$5)-$G11,$I11)=0,TRUE,FALSE),$J11*O$2,0)} -> 6165288.4 | P11: {=IF(_xlfn.SWITCH(TRUE,COLUMN()-COLUMN($J$5)-$G11<0,FALSE,MOD(COLUMN()-COLUMN($J$5)-$G11,$I11)=0,TRUE,FALSE),$J11*P$2,0)} -> 0 | Q11: {=IF(_xlfn.SWITCH(TRUE,COLUMN()-COLUMN($J$5)-$G11<0,FALSE,MOD(COLUMN()-COLUMN($J$5)-$G11,$I11)=0,TRUE,FALSE),$J11*Q$2,0)} -> 0 | R11: {=IF(_xlfn.SWITCH(TRUE,COLUMN()-COLUMN($J$5)-$G11<0,FALSE,MOD(COLUMN()-COLUMN($J$5)-$G11,$I11)=0,TRUE,FALSE),$J11*R$2,0)} -> 0 | ... AD11: {=IF(_xlfn.SWITCH(TRUE,COLUMN()-COLUMN($J$5)-$G11<0,FALSE,MOD(COLUMN()-COLUMN($J$5)-$G11,$I11)=0,TRUE,FALSE),$J11*AD$2,0)} -> 9605318.5 | AE11: =SUM(K11:AD11) -> 15770607
A12: Architecture & Interiors | B12: Restrooms & Family Area Restrooms | C12: Service Level | D12: Refresh | E12: Restroom finishes, fixtures, and accessories upgrades | F12: High | G12: =H12-2024 -> 2 | H12: 2026 | I12: 15 | J12: =Costs!P10 -> 866025 | K12: {=IF(_xlfn.SWITCH(TRUE,COLUMN()-COLUMN($J$5)-$G12<0,FALSE,MOD(COLUMN()-COLUMN($J$5)-$G12,$I12)=0,TRUE,FALSE),$J12*K$2,0)} -> 0 | L12: {=IF(_xlfn.SWITCH(TRUE,COLUMN()-COLUMN($J$5)-$G12<0,FALSE,MOD(COLUMN()-COLUMN($J$5)-$G12,$I12)=0,TRUE,FALSE),$J12*L$2,0)} -> 923225.95 | M12: {=IF(_xlfn.SWITCH(TRUE,COLUMN()-COLUMN($J$5)-$G12<0,FALSE,MOD(COLUMN()-COLUMN($J$5)-$G12,$I12)=0,TRUE,FALSE),$J12*M$2,0)} -> 0 | N12: {=IF(_xlfn.SWITCH(TRUE,COLUMN()-COLUMN($J$5)-$G12<0,FALSE,MOD(COLUMN()-COLUMN($J$5)-$G12,$I12)=0,TRUE,FALSE),$J12*N$2,0)} -> 0 | O12: {=IF(_xlfn.SWITCH(TRUE,COLUMN()-COLUMN($J$5)-$G12<0,FALSE,MOD(COLUMN()-COLUMN($J$5)-$G12,$I12)=0,TRUE,FALSE),$J12*O$2,0)} -> 0 | P12: {=IF(_xlfn.SWITCH(TRUE,COLUMN()-COLUMN($J$5)-$G12<0,FALSE,MOD(COLUMN()-COLUMN($J$5)-$G12,$I12)=0,TRUE,FALSE),$J12*P$2,0)} -> 0 | Q12: {=IF(_xlfn.SWITCH(TRUE,COLUMN()-COLUMN($J$5)-$G12<0,FALSE,MOD(COLUMN()-COLUMN($J$5)-$G12,$I12)=0,TRUE,FALSE),$J12*Q$2,0)} -> 0 | R12: {=IF(_xlfn.SWITCH(TRUE,COLUMN()-COLUMN($J$5)-$G12<0,FALSE,MOD(COLUMN()-COLUMN($J$5)-$G12,$I12)=0,TRUE,FALSE),$J12*R$2,0)} -> 0 | ... AD12: {=IF(_xlfn.SWITCH(TRUE,COLUMN()-COLUMN($J$5)-$G12<0,FALSE,MOD(COLUMN()-COLUMN($J$5)-$G12,$I12)=0,TRUE,FALSE),$J12*AD$2,0)} -> 0 | AE12: =SUM(K12:AD12) -> 2361581.9
A13: Architecture & Interiors | B13: Star Rooms | C13: Service Level | D13: Refresh | E13: Interior Finishes, paint & flooring | F13: High | G13: =H13-2024 -> 2 | H13: 2026 | I13: 10 | J13: =Costs!P11 -> 272538 | K13: {=IF(_xlfn.SWITCH(TRUE,COLUMN()-COLUMN($J$5)-$G13<0,FALSE,MOD(COLUMN()-COLUMN($J$5)-$G13,$I13)=0,TRUE,FALSE),$J13*K$2,0)} -> 0 | L13: {=IF(_xlfn.SWITCH(TRUE,COLUMN()-COLUMN($J$5)-$G13<0,FALSE,MOD(COLUMN()-COLUMN($J$5)-$G13,$I13)=0,TRUE,FALSE),$J13*L$2,0)} -> 290539.13 | M13: {=IF(_xlfn.SWITCH(TRUE,COLUMN()-COLUMN($J$5)-$G13<0,FALSE,MOD(COLUMN()-COLUMN($J$5)-$G13,$I13)=0,TRUE,FALSE),$J13*M$2,0)} -> 0 | N13: {=IF(_xlfn.SWITCH(TRUE,COLUMN()-COLUMN($J$5)-$G13<0,FALSE,MOD(COLUMN()-COLUMN($J$5)-$G13,$I13)=0,TRUE,FALSE),$J13*N$2,0)} -> 0 | O13: {=IF(_xlfn.SWITCH(TRUE,COLUMN()-COLUMN($J$5)-$G13<0,FALSE,MOD(COLUMN()-COLUMN($J$5)-$G13,$I13)=0,TRUE,FALSE),$J13*O$2,0)} -> 0 | P13: {=IF(_xlfn.SWITCH(TRUE,COLUMN()-COLUMN($J$5)-$G13<0,FALSE,MOD(COLUMN()-COLUMN($J$5)-$G13,$I13)=0,TRUE,FALSE),$J13*P$2,0)} -> 0 | Q13: {=IF(_xlfn.SWITCH(TRUE,COLUMN()-COLUMN($J$5)-$G13<0,FALSE,MOD(COLUMN()-COLUMN($J$5)-$G13,$I13)=0,TRUE,FALSE),$J13*Q$2,0)} -> 0 | R13: {=IF(_xlfn.SWITCH(TRUE,COLUMN()-COLUMN($J$5)-$G13<0,FALSE,MOD(COLUMN()-COLUMN($J$5)-$G13,$I13)=0,TRUE,FALSE),$J13*R$2,0)} -> 0 | ... AD13: {=IF(_xlfn.SWITCH(TRUE,COLUMN()-COLUMN($J$5)-$G13<0,FALSE,MOD(COLUMN()-COLUMN($J$5)-$G13,$I13)=0,TRUE,FALSE),$J13*AD$2,0)} -> 0 | AE13: =SUM(K13:AD13) -> 680999.44
A14: Architecture & Interiors | B14: Star Rooms - Room F | C14: Service Level | D14: Refresh | E14: Interior Finishes and fixtures, ceiling, paint, flooring, Lighting | F14: High | G14: =H14-2024 -> 2 | H14: 2026 | I14: 10 | J14: =Costs!P12 -> 44415 | K14: {=IF(_xlfn.SWITCH(TRUE,COLUMN()-COLUMN($J$5)-$G14<0,FALSE,MOD(COLUMN()-COLUMN($J$5)-$G14,$I14)=0,TRUE,FALSE),$J14*K$2,0)} -> 0 | L14: {=IF(_xlfn.SWITCH(TRUE,COLUMN()-COLUMN($J$5)-$G14<0,FALSE,MOD(COLUMN()-COLUMN($J$5)-$G14,$I14)=0,TRUE,FALSE),$J14*L$2,0)} -> 47348.611 | M14: {=IF(_xlfn.SWITCH(TRUE,COLUMN()-COLUMN($J$5)-$G14<0,FALSE,MOD(COLUMN()-COLUMN($J$5)-$G14,$I14)=0,TRUE,FALSE),$J14*M$2,0)} -> 0 | N14: {=IF(_xlfn.SWITCH(TRUE,COLUMN()-COLUMN($J$5)-$G14<0,FALSE,MOD(COLUMN()-COLUMN($J$5)-$G14,$I14)=0,TRUE,FALSE),$J14*N$2,0)} -> 0 | O14: {=IF(_xlfn.SWITCH(TRUE,COLUMN()-COLUMN($J$5)-$G14<0,FALSE,MOD(COLUMN()-COLUMN($J$5)-$G14,$I14)=0,TRUE,FALSE),$J14*O$2,0)} -> 0 | P14: {=IF(_xlfn.SWITCH(TRUE,COLUMN()-COLUMN($J$5)-$G14<0,FALSE,MOD(COLUMN()-COLUMN($J$5)-$G14,$I14)=0,TRUE,FALSE),$J14*P$2,0)} -> 0 | Q14: {=IF(_xlfn.SWITCH(TRUE,COLUMN()-COLUMN($J$5)-$G14<0,FALSE,MOD(COLUMN()-COLUMN($J$5)-$G14,$I14)=0,TRUE,FALSE),$J14*Q$2,0)} -> 0 | R14: {=IF(_xlfn.SWITCH(TRUE,COLUMN()-COLUMN($J$5)-$G14<0,FALSE,MOD(COLUMN()-COLUMN($J$5)-$G14,$I14)=0,TRUE,FALSE),$J14*R$2,0)} -> 0 | ... AD14: {=IF(_xlfn.SWITCH(TRUE,COLUMN()-COLUMN($J$5)-$G14<0,FALSE,MOD(COLUMN()-COLUMN($J$5)-$G14,$I14)=0,TRUE,FALSE),$J14*AD$2,0)} -> 0 | AE14: =SUM(K14:AD14) -> 110981.18
A15: Architecture & Interiors | B15: Service Tunnel | C15: Service Level | D15: Repairs/ Refresh | E15: Patch, repair, and paint masonry walls | F15: Medium | G15: =H15-2024 -> 5 | H15: 2029 | I15: 5 | J15: =Costs!P13 -> 67500 | K15: {=IF(_xlfn.SWITCH(TRUE,COLUMN()-COLUMN($J$5)-$G15<0,FALSE,MOD(COLUMN()-COLUMN($J$5)-$G15,$I15)=0,TRUE,FALSE),$J15*K$2,0)} -> 0 | L15: {=IF(_xlfn.SWITCH(TRUE,COLUMN()-COLUMN($J$5)-$G15<0,FALSE,MOD(COLUMN()-COLUMN($J$5)-$G15,$I15)=0,TRUE,FALSE),$J15*L$2,0)} -> 0 | M15: {=IF(_xlfn.SWITCH(TRUE,COLUMN()-COLUMN($J$5)-$G15<0,FALSE,MOD(COLUMN()-COLUMN($J$5)-$G15,$I15)=0,TRUE,FALSE),$J15*M$2,0)} -> 0 | N15: {=IF(_xlfn.SWITCH(TRUE,COLUMN()-COLUMN($J$5)-$G15<0,FALSE,MOD(COLUMN()-COLUMN($J$5)-$G15,$I15)=0,TRUE,FALSE),$J15*N$2,0)} -> 0 | O15: {=IF(_xlfn.SWITCH(TRUE,COLUMN()-COLUMN($J$5)-$G15<0,FALSE,MOD(COLUMN()-COLUMN($J$5)-$G15,$I15)=0,TRUE,FALSE),$J15*O$2,0)} -> 78630.859 | P15: {=IF(_xlfn.SWITCH(TRUE,COLUMN()-COLUMN($J$5)-$G15<0,FALSE,MOD(COLUMN()-COLUMN($J$5)-$G15,$I15)=0,TRUE,FALSE),$J15*P$2,0)} -> 0 | Q15: {=IF(_xlfn.SWITCH(TRUE,COLUMN()-COLUMN($J$5)-$G15<0,FALSE,MOD(COLUMN()-COLUMN($J$5)-$G15,$I15)=0,TRUE,FALSE),$J15*Q$2,0)} -> 0 | R15: {=IF(_xlfn.SWITCH(TRUE,COLUMN()-COLUMN($J$5)-$G15<0,FALSE,MOD(COLUMN()-COLUMN($J$5)-$G15,$I15)=0,TRUE,FALSE),$J15*R$2,0)} -> 0 | ... AD15: {=IF(_xlfn.SWITCH(TRUE,COLUMN()-COLUMN($J$5)-$G15<0,FALSE,MOD(COLUMN()-COLUMN($J$5)-$G15,$I15)=0,TRUE,FALSE),$J15*AD$2,0)} -> 122504.32 | AE15: =SUM(K15:AD15) -> 397963.19
A16: Architecture & Interiors | B16: Courtside Club | C16: Service Level | D16: Refresh | E16: Amenity space Interior finish renovation | F16: Medium | G16: =H16-2024 -> 5 | H16: 2029 | I16: 10 | J16: =Costs!P14 -> 6959587.5 | K16: {=IF(_xlfn.SWITCH(TRUE,COLUMN()-COLUMN($J$5)-$G16<0,FALSE,MOD(COLUMN()-COLUMN($J$5)-$G16,$I16)=0,TRUE,FALSE),$J16*K$2,0)} -> 0 | L16: {=IF(_xlfn.SWITCH(TRUE,COLUMN()-COLUMN($J$5)-$G16<0,FALSE,MOD(COLUMN()-COLUMN($J$5)-$G16,$I16)=0,TRUE,FALSE),$J16*L$2,0)} -> 0 | M16: {=IF(_xlfn.SWITCH(TRUE,COLUMN()-COLUMN($J$5)-$G16<0,FALSE,MOD(COLUMN()-COLUMN($J$5)-$G16,$I16)=0,TRUE,FALSE),$J16*M$2,0)} -> 0 | N16: {=IF(_xlfn.SWITCH(TRUE,COLUMN()-COLUMN($J$5)-$G16<0,FALSE,MOD(COLUMN()-COLUMN($J$5)-$G16,$I16)=0,TRUE,FALSE),$J16*N$2,0)} -> 0 | O16: {=IF(_xlfn.SWITCH(TRUE,COLUMN()-COLUMN($J$5)-$G16<0,FALSE,MOD(COLUMN()-COLUMN($J$5)-$G16,$I16)=0,TRUE,FALSE),$J16*O$2,0)} -> 8107234.7 | P16: {=IF(_xlfn.SWITCH(TRUE,COLUMN()-COLUMN($J$5)-$G16<0,FALSE,MOD(COLUMN()-COLUMN($J$5)-$G16,$I16)=0,TRUE,FALSE),$J16*P$2,0)} -> 0 | Q16: {=IF(_xlfn.SWITCH(TRUE,COLUMN()-COLUMN($J$5)-$G16<0,FALSE,MOD(COLUMN()-COLUMN($J$5)-$G16,$I16)=0,TRUE,FALSE),$J16*Q$2,0)} -> 0 | R16: {=IF(_xlfn.SWITCH(TRUE,COLUMN()-COLUMN($J$5)-$G16<0,FALSE,MOD(COLUMN()-COLUMN($J$5)-$G16,$I16)=0,TRUE,FALSE),$J16*R$2,0)} -> 0 | ... AD16: {=IF(_xlfn.SWITCH(TRUE,COLUMN()-COLUMN($J$5)-$G16<0,FALSE,MOD(COLUMN()-COLUMN($J$5)-$G16,$I16)=0,TRUE,FALSE),$J16*AD$2,0)} -> 0 | AE16: =SUM(K16:AD16) -> 19002680
A17: Architecture & Interiors | B17: Doors and Hardware | C17: Service Level | D17: Replacement | E17: Doors and Hardware | F17: Medium | G17: =H17-2024 -> 5 | H17: 2029 | I17: 15 | J17: =Costs!P15 -> 1215000 | K17: {=IF(_xlfn.SWITCH(TRUE,COLUMN()-COLUMN($J$5)-$G17<0,FALSE,MOD(COLUMN()-COLUMN($J$5)-$G17,$I17)=0,TRUE,FALSE),$J17*K$2,0)} -> 0 | L17: {=IF(_xlfn.SWITCH(TRUE,COLUMN()-COLUMN($J$5)-$G17<0,FALSE,MOD(COLUMN()-COLUMN($J$5)-$G17,$I17)=0,TRUE,FALSE),$J17*L$2,0)} -> 0 | M17: {=IF(_xlfn.SWITCH(TRUE,COLUMN()-COLUMN($J$5)-$G17<0,FALSE,MOD(COLUMN()-COLUMN($J$5)-$G17,$I17)=0,TRUE,FALSE),$J17*M$2,0)} -> 0 | N17: {=IF(_xlfn.SWITCH(TRUE,COLUMN()-COLUMN($J$5)-$G17<0,FALSE,MOD(COLUMN()-COLUMN($J$5)-$G17,$I17)=0,TRUE,FALSE),$J17*N$2,0)} -> 0 | O17: {=IF(_xlfn.SWITCH(TRUE,COLUMN()-COLUMN($J$5)-$G17<0,FALSE,MOD(COLUMN()-COLUMN($J$5)-$G17,$I17)=0,TRUE,FALSE),$J17*O$2,0)} -> 1415355.5 | P17: {=IF(_xlfn.SWITCH(TRUE,COLUMN()-COLUMN($J$5)-$G17<0,FALSE,MOD(COLUMN()-COLUMN($J$5)-$G17,$I17)=0,TRUE,FALSE),$J17*P$2,0)} -> 0 | Q17: {=IF(_xlfn.SWITCH(TRUE,COLUMN()-COLUMN($J$5)-$G17<0,FALSE,MOD(COLUMN()-COLUMN($J$5)-$G17,$I17)=0,TRUE,FALSE),$J17*Q$2,0)} -> 0 | R17: {=IF(_xlfn.SWITCH(TRUE,COLUMN()-COLUMN($J$5)-$G17<0,FALSE,MOD(COLUMN()-COLUMN($J$5)-$G17,$I17)=0,TRUE,FALSE),$J17*R$2,0)} -> 0 | ... AD17: {=IF(_xlfn.SWITCH(TRUE,COLUMN()-COLUMN($J$5)-$G17<0,FALSE,MOD(COLUMN()-COLUMN($J$5)-$G17,$I17)=0,TRUE,FALSE),$J17*AD$2,0)} -> 2205077.7 | AE17: =SUM(K17:AD17) -> 3620433.2
... A104: Architecture & Interiors | B104: Wayfinding | C104: Garage | D104: Refresh | E104: Replacement and improvements of wayfinding/ environmental graphics | F104: High | G104: =H104-2024 -> 2 | H104: 2026 | I104: 15 | J104: =Costs!P102 -> 270000 | K104: {=IF(_xlfn.SWITCH(TRUE,COLUMN()-COLUMN($J$5)-$G104<0,FALSE,MOD(COLUMN()-COLUMN($J$5)-$G104,$I104)=0,TRUE,FALSE),$J104*K$2,0)} -> 0 | L104: {=IF(_xlfn.SWITCH(TRUE,COLUMN()-COLUMN($J$5)-$G104<0,FALSE,MOD(COLUMN()-COLUMN($J$5)-$G104,$I104)=0,TRUE,FALSE),$J104*L$2,0)} -> 287833.5 | M104: {=IF(_xlfn.SWITCH(TRUE,COLUMN()-COLUMN($J$5)-$G104<0,FALSE,MOD(COLUMN()-COLUMN($J$5)-$G104,$I104)=0,TRUE,FALSE),$J104*M$2,0)} -> 0 | N104: {=IF(_xlfn.SWITCH(TRUE,COLUMN()-COLUMN($J$5)-$G104<0,FALSE,MOD(COLUMN()-COLUMN($J$5)-$G104,$I104)=0,TRUE,FALSE),$J104*N$2,0)} -> 0 | O104: {=IF(_xlfn.SWITCH(TRUE,COLUMN()-COLUMN($J$5)-$G104<0,FALSE,MOD(COLUMN()-COLUMN($J$5)-$G104,$I104)=0,TRUE,FALSE),$J104*O$2,0)} -> 0 | P104: {=IF(_xlfn.SWITCH(TRUE,COLUMN()-COLUMN($J$5)-$G104<0,FALSE,MOD(COLUMN()-COLUMN($J$5)-$G104,$I104)=0,TRUE,FALSE),$J104*P$2,0)} -> 0 | Q104: {=IF(_xlfn.SWITCH(TRUE,COLUMN()-COLUMN($J$5)-$G104<0,FALSE,MOD(COLUMN()-COLUMN($J$5)-$G104,$I104)=0,TRUE,FALSE),$J104*Q$2,0)} -> 0 | R104: {=IF(_xlfn.SWITCH(TRUE,COLUMN()-COLUMN($J$5)-$G104<0,FALSE,MOD(COLUMN()-COLUMN($J$5)-$G104,$I104)=0,TRUE,FALSE),$J104*R$2,0)} -> 0 | ... AD104: {=IF(_xlfn.SWITCH(TRUE,COLUMN()-COLUMN($J$5)-$G104<0,FALSE,MOD(COLUMN()-COLUMN($J$5)-$G104,$I104)=0,TRUE,FALSE),$J104*AD$2,0)} -> 0 | AE104: =SUM(K104:AD104) -> 736268.71
A105: Architecture & Interiors | G105: =H105-2024 -> -2024 | I105: 10 | J105: 0 | K105: {=IF(_xlfn.SWITCH(TRUE,COLUMN()-COLUMN($J$5)-$G105<0,FALSE,MOD(COLUMN()-COLUMN($J$5)-$G105,$I105)=0,TRUE,FALSE),$J105*K$2,0)} -> 0 | L105: {=IF(_xlfn.SWITCH(TRUE,COLUMN()-COLUMN($J$5)-$G105<0,FALSE,MOD(COLUMN()-COLUMN($J$5)-$G105,$I105)=0,TRUE,FALSE),$J105*L$2,0)} -> 0 | M105: {=IF(_xlfn.SWITCH(TRUE,COLUMN()-COLUMN($J$5)-$G105<0,FALSE,MOD(COLUMN()-COLUMN($J$5)-$G105,$I105)=0,TRUE,FALSE),$J105*M$2,0)} -> 0 | N105: {=IF(_xlfn.SWITCH(TRUE,COLUMN()-COLUMN($J$5)-$G105<0,FALSE,MOD(COLUMN()-COLUMN($J$5)-$G105,$I105)=0,TRUE,FALSE),$J105*N$2,0)} -> 0 | O105: {=IF(_xlfn.SWITCH(TRUE,COLUMN()-COLUMN($J$5)-$G105<0,FALSE,MOD(COLUMN()-COLUMN($J$5)-$G105,$I105)=0,TRUE,FALSE),$J105*O$2,0)} -> 0 | P105: {=IF(_xlfn.SWITCH(TRUE,COLUMN()-COLUMN($J$5)-$G105<0,FALSE,MOD(COLUMN()-COLUMN($J$5)-$G105,$I105)=0,TRUE,FALSE),$J105*P$2,0)} -> 0 | Q105: {=IF(_xlfn.SWITCH(TRUE,COLUMN()-COLUMN($J$5)-$G105<0,FALSE,MOD(COLUMN()-COLUMN($J$5)-$G105,$I105)=0,TRUE,FALSE),$J105*Q$2,0)} -> 0 | R105: {=IF(_xlfn.SWITCH(TRUE,COLUMN()-COLUMN($J$5)-$G105<0,FALSE,MOD(COLUMN()-COLUMN($J$5)-$G105,$I105)=0,TRUE,FALSE),$J105*R$2,0)} -> 0 | ... AD105: {=IF(_xlfn.SWITCH(TRUE,COLUMN()-COLUMN($J$5)-$G105<0,FALSE,MOD(COLUMN()-COLUMN($J$5)-$G105,$I105)=0,TRUE,FALSE),$J105*AD$2,0)} -> 0 | AE105: =SUM(K105:AD105) -> 0
A106: Architecture & Interiors | G106: =H106-2024 -> -2024 | I106: 10 | J106: 0 | K106: {=IF(_xlfn.SWITCH(TRUE,COLUMN()-COLUMN($J$5)-$G106<0,FALSE,MOD(COLUMN()-COLUMN($J$5)-$G106,$I106)=0,TRUE,FALSE),$J106*K$2,0)} -> 0 | L106: {=IF(_xlfn.SWITCH(TRUE,COLUMN()-COLUMN($J$5)-$G106<0,FALSE,MOD(COLUMN()-COLUMN($J$5)-$G106,$I106)=0,TRUE,FALSE),$J106*L$2,0)} -> 0 | M106: {=IF(_xlfn.SWITCH(TRUE,COLUMN()-COLUMN($J$5)-$G106<0,FALSE,MOD(COLUMN()-COLUMN($J$5)-$G106,$I106)=0,TRUE,FALSE),$J106*M$2,0)} -> 0 | N106: {=IF(_xlfn.SWITCH(TRUE,COLUMN()-COLUMN($J$5)-$G106<0,FALSE,MOD(COLUMN()-COLUMN($J$5)-$G106,$I106)=0,TRUE,FALSE),$J106*N$2,0)} -> 0 | O106: {=IF(_xlfn.SWITCH(TRUE,COLUMN()-COLUMN($J$5)-$G106<0,FALSE,MOD(COLUMN()-COLUMN($J$5)-$G106,$I106)=0,TRUE,FALSE),$J106*O$2,0)} -> 0 | P106: {=IF(_xlfn.SWITCH(TRUE,COLUMN()-COLUMN($J$5)-$G106<0,FALSE,MOD(COLUMN()-COLUMN($J$5)-$G106,$I106)=0,TRUE,FALSE),$J106*P$2,0)} -> 0 | Q106: {=IF(_xlfn.SWITCH(TRUE,COLUMN()-COLUMN($J$5)-$G106<0,FALSE,MOD(COLUMN()-COLUMN($J$5)-$G106,$I106)=0,TRUE,FALSE),$J106*Q$2,0)} -> 0 | R106: {=IF(_xlfn.SWITCH(TRUE,COLUMN()-COLUMN($J$5)-$G106<0,FALSE,MOD(COLUMN()-COLUMN($J$5)-$G106,$I106)=0,TRUE,FALSE),$J106*R$2,0)} -> 0 | ... AD106: {=IF(_xlfn.SWITCH(TRUE,COLUMN()-COLUMN($J$5)-$G106<0,FALSE,MOD(COLUMN()-COLUMN($J$5)-$G106,$I106)=0,TRUE,FALSE),$J106*AD$2,0)} -> 0 | AE106: =SUM(K106:AD106) -> 0
A107: Architecture & Interiors | G107: =H107-2024 -> -2024 | I107: 10 | J107: 0 | K107: {=IF(_xlfn.SWITCH(TRUE,COLUMN()-COLUMN($J$5)-$G107<0,FALSE,MOD(COLUMN()-COLUMN($J$5)-$G107,$I107)=0,TRUE,FALSE),$J107*K$2,0)} -> 0 | L107: {=IF(_xlfn.SWITCH(TRUE,COLUMN()-COLUMN($J$5)-$G107<0,FALSE,MOD(COLUMN()-COLUMN($J$5)-$G107,$I107)=0,TRUE,FALSE),$J107*L$2,0)} -> 0 | M107: {=IF(_xlfn.SWITCH(TRUE,COLUMN()-COLUMN($J$5)-$G107<0,FALSE,MOD(COLUMN()-COLUMN($J$5)-$G107,$I107)=0,TRUE,FALSE),$J107*M$2,0)} -> 0 | N107: {=IF(_xlfn.SWITCH(TRUE,COLUMN()-COLUMN($J$5)-$G107<0,FALSE,MOD(COLUMN()-COLUMN($J$5)-$G107,$I107)=0,TRUE,FALSE),$J107*N$2,0)} -> 0 | O107: {=IF(_xlfn.SWITCH(TRUE,COLUMN()-COLUMN($J$5)-$G107<0,FALSE,MOD(COLUMN()-COLUMN($J$5)-$G107,$I107)=0,TRUE,FALSE),$J107*O$2,0)} -> 0 | P107: {=IF(_xlfn.SWITCH(TRUE,COLUMN()-COLUMN($J$5)-$G107<0,FALSE,MOD(COLUMN()-COLUMN($J$5)-$G107,$I107)=0,TRUE,FALSE),$J107*P$2,0)} -> 0 | Q107: {=IF(_xlfn.SWITCH(TRUE,COLUMN()-COLUMN($J$5)-$G107<0,FALSE,MOD(COLUMN()-COLUMN($J$5)-$G107,$I107)=0,TRUE,FALSE),$J107*Q$2,0)} -> 0 | R107: {=IF(_xlfn.SWITCH(TRUE,COLUMN()-COLUMN($J$5)-$G107<0,FALSE,MOD(COLUMN()-COLUMN($J$5)-$G107,$I107)=0,TRUE,FALSE),$J107*R$2,0)} -> 0 | ... AD107: {=IF(_xlfn.SWITCH(TRUE,COLUMN()-COLUMN($J$5)-$G107<0,FALSE,MOD(COLUMN()-COLUMN($J$5)-$G107,$I107)=0,TRUE,FALSE),$J107*AD$2,0)} -> 0 | AE107: =SUM(K107:AD107) -> 0
A108: Architecture & Interiors - Total | K108: =SUM(K6:K107) -> 0 | L108: =SUM(L6:L107) -> 17137494 | M108: =SUM(M6:M107) -> 0 | N108: =SUM(N6:N107) -> 1526812.8 | O108: =SUM(O6:O107) -> 1.1695833e+08 | P108: =SUM(P6:P107) -> 0 | Q108: =SUM(Q6:Q107) -> 191864.8 | R108: =SUM(R6:R107) -> 0 | ... AE108: =SUM(AE6:AE107) -> 2.9346621e+08
A109: MEP & Fire Protection | B109: 765-Ton McQuay Centrifugal Chiller | C109: Main Concourse | D109: Mechanical | E109: Chilled Water | F109: Medium | G109: =H109-2024 -> 5 | H109: 2029 | I109: 23 | J109: =Costs!P108 -> 1444500 | K109: {=IF(_xlfn.SWITCH(TRUE,COLUMN()-COLUMN($J$5)-$G109<0,FALSE,MOD(COLUMN()-COLUMN($J$5)-$G109,$I109)=0,TRUE,FALSE),$J109*K$2,0)} -> 0 | L109: {=IF(_xlfn.SWITCH(TRUE,COLUMN()-COLUMN($J$5)-$G109<0,FALSE,MOD(COLUMN()-COLUMN($J$5)-$G109,$I109)=0,TRUE,FALSE),$J109*L$2,0)} -> 0 | M109: {=IF(_xlfn.SWITCH(TRUE,COLUMN()-COLUMN($J$5)-$G109<0,FALSE,MOD(COLUMN()-COLUMN($J$5)-$G109,$I109)=0,TRUE,FALSE),$J109*M$2,0)} -> 0 | N109: {=IF(_xlfn.SWITCH(TRUE,COLUMN()-COLUMN($J$5)-$G109<0,FALSE,MOD(COLUMN()-COLUMN($J$5)-$G109,$I109)=0,TRUE,FALSE),$J109*N$2,0)} -> 0 | O109: {=IF(_xlfn.SWITCH(TRUE,COLUMN()-COLUMN($J$5)-$G109<0,FALSE,MOD(COLUMN()-COLUMN($J$5)-$G109,$I109)=0,TRUE,FALSE),$J109*O$2,0)} -> 1682700.4 | P109: {=IF(_xlfn.SWITCH(TRUE,COLUMN()-COLUMN($J$5)-$G109<0,FALSE,MOD(COLUMN()-COLUMN($J$5)-$G109,$I109)=0,TRUE,FALSE),$J109*P$2,0)} -> 0 | Q109: {=IF(_xlfn.SWITCH(TRUE,COLUMN()-COLUMN($J$5)-$G109<0,FALSE,MOD(COLUMN()-COLUMN($J$5)-$G109,$I109)=0,TRUE,FALSE),$J109*Q$2,0)} -> 0 | R109: {=IF(_xlfn.SWITCH(TRUE,COLUMN()-COLUMN($J$5)-$G109<0,FALSE,MOD(COLUMN()-COLUMN($J$5)-$G109,$I109)=0,TRUE,FALSE),$J109*R$2,0)} -> 0 | ... AD109: {=IF(_xlfn.SWITCH(TRUE,COLUMN()-COLUMN($J$5)-$G109<0,FALSE,MOD(COLUMN()-COLUMN($J$5)-$G109,$I109)=0,TRUE,FALSE),$J109*AD$2,0)} -> 0 | AE109: =SUM(K109:AD109) -> 1682700.4
A110: MEP & Fire Protection | B110: 380-Ton Daikin Centrifugal Chiller | C110: Main Concourse | D110: Mechanical | E110: Chilled Water | F110: Low | G110: =H110-2024 -> 14 | H110: 2038 | I110: 23 | J110: =Costs!P109 -> 303750 | K110: {=IF(_xlfn.SWITCH(TRUE,COLUMN()-COLUMN($J$5)-$G110<0,FALSE,MOD(COLUMN()-COLUMN($J$5)-$G110,$I110)=0,TRUE,FALSE),$J110*K$2,0)} -> 0 | L110: {=IF(_xlfn.SWITCH(TRUE,COLUMN()-COLUMN($J$5)-$G110<0,FALSE,MOD(COLUMN()-COLUMN($J$5)-$G110,$I110)=0,TRUE,FALSE),$J110*L$2,0)} -> 0 | M110: {=IF(_xlfn.SWITCH(TRUE,COLUMN()-COLUMN($J$5)-$G110<0,FALSE,MOD(COLUMN()-COLUMN($J$5)-$G110,$I110)=0,TRUE,FALSE),$J110*M$2,0)} -> 0 | N110: {=IF(_xlfn.SWITCH(TRUE,COLUMN()-COLUMN($J$5)-$G110<0,FALSE,MOD(COLUMN()-COLUMN($J$5)-$G110,$I110)=0,TRUE,FALSE),$J110*N$2,0)} -> 0 | O110: {=IF(_xlfn.SWITCH(TRUE,COLUMN()-COLUMN($J$5)-$G110<0,FALSE,MOD(COLUMN()-COLUMN($J$5)-$G110,$I110)=0,TRUE,FALSE),$J110*O$2,0)} -> 0 | P110: {=IF(_xlfn.SWITCH(TRUE,COLUMN()-COLUMN($J$5)-$G110<0,FALSE,MOD(COLUMN()-COLUMN($J$5)-$G110,$I110)=0,TRUE,FALSE),$J110*P$2,0)} -> 0 | Q110: {=IF(_xlfn.SWITCH(TRUE,COLUMN()-COLUMN($J$5)-$G110<0,FALSE,MOD(COLUMN()-COLUMN($J$5)-$G110,$I110)=0,TRUE,FALSE),$J110*Q$2,0)} -> 0 | R110: {=IF(_xlfn.SWITCH(TRUE,COLUMN()-COLUMN($J$5)-$G110<0,FALSE,MOD(COLUMN()-COLUMN($J$5)-$G110,$I110)=0,TRUE,FALSE),$J110*R$2,0)} -> 0 | ... AD110: {=IF(_xlfn.SWITCH(TRUE,COLUMN()-COLUMN($J$5)-$G110<0,FALSE,MOD(COLUMN()-COLUMN($J$5)-$G110,$I110)=0,TRUE,FALSE),$J110*AD$2,0)} -> 0 | AE110: =SUM(K110:AD110) -> 461679.46
A111: MEP & Fire Protection | B111: 40 HP Armstrong 4300 Vertical In-Line Pump (P CHW) | C111: Main Concourse | D111: Mechanical | E111: Chilled Water | F111: Medium | G111: =H111-2024 -> 5 | H111: 2029 | I111: 20 | J111: =Costs!P110 -> 162000 | K111: {=IF(_xlfn.SWITCH(TRUE,COLUMN()-COLUMN($J$5)-$G111<0,FALSE,MOD(COLUMN()-COLUMN($J$5)-$G111,$I111)=0,TRUE,FALSE),$J111*K$2,0)} -> 0 | L111: {=IF(_xlfn.SWITCH(TRUE,COLUMN()-COLUMN($J$5)-$G111<0,FALSE,MOD(COLUMN()-COLUMN($J$5)-$G111,$I111)=0,TRUE,FALSE),$J111*L$2,0)} -> 0 | M111: {=IF(_xlfn.SWITCH(TRUE,COLUMN()-COLUMN($J$5)-$G111<0,FALSE,MOD(COLUMN()-COLUMN($J$5)-$G111,$I111)=0,TRUE,FALSE),$J111*M$2,0)} -> 0 | N111: {=IF(_xlfn.SWITCH(TRUE,COLUMN()-COLUMN($J$5)-$G111<0,FALSE,MOD(COLUMN()-COLUMN($J$5)-$G111,$I111)=0,TRUE,FALSE),$J111*N$2,0)} -> 0 | O111: {=IF(_xlfn.SWITCH(TRUE,COLUMN()-COLUMN($J$5)-$G111<0,FALSE,MOD(COLUMN()-COLUMN($J$5)-$G111,$I111)=0,TRUE,FALSE),$J111*O$2,0)} -> 188714.06 | P111: {=IF(_xlfn.SWITCH(TRUE,COLUMN()-COLUMN($J$5)-$G111<0,FALSE,MOD(COLUMN()-COLUMN($J$5)-$G111,$I111)=0,TRUE,FALSE),$J111*P$2,0)} -> 0 | Q111: {=IF(_xlfn.SWITCH(TRUE,COLUMN()-COLUMN($J$5)-$G111<0,FALSE,MOD(COLUMN()-COLUMN($J$5)-$G111,$I111)=0,TRUE,FALSE),$J111*Q$2,0)} -> 0 | R111: {=IF(_xlfn.SWITCH(TRUE,COLUMN()-COLUMN($J$5)-$G111<0,FALSE,MOD(COLUMN()-COLUMN($J$5)-$G111,$I111)=0,TRUE,FALSE),$J111*R$2,0)} -> 0 | ... AD111: {=IF(_xlfn.SWITCH(TRUE,COLUMN()-COLUMN($J$5)-$G111<0,FALSE,MOD(COLUMN()-COLUMN($J$5)-$G111,$I111)=0,TRUE,FALSE),$J111*AD$2,0)} -> 0 | AE111: =SUM(K111:AD111) -> 188714.06
A112: MEP & Fire Protection | B112: 20 HP Armstrong 4300 Vertical In-Line Pump (P CHW) | C112: Main Concourse | D112: Mechanical | E112: Chilled Water | F112: Medium | G112: =H112-2024 -> 5 | H112: 2029 | I112: 20 | J112: =Costs!P111 -> 67500 | K112: {=IF(_xlfn.SWITCH(TRUE,COLUMN()-COLUMN($J$5)-$G112<0,FALSE,MOD(COLUMN()-COLUMN($J$5)-$G112,$I112)=0,TRUE,FALSE),$J112*K$2,0)} -> 0 | L112: {=IF(_xlfn.SWITCH(TRUE,COLUMN()-COLUMN($J$5)-$G112<0,FALSE,MOD(COLUMN()-COLUMN($J$5)-$G112,$I112)=0,TRUE,FALSE),$J112*L$2,0)} -> 0 | M112: {=IF(_xlfn.SWITCH(TRUE,COLUMN()-COLUMN($J$5)-$G112<0,FALSE,MOD(COLUMN()-COLUMN($J$5)-$G112,$I112)=0,TRUE,FALSE),$J112*M$2,0)} -> 0 | N112: {=IF(_xlfn.SWITCH(TRUE,COLUMN()-COLUMN($J$5)-$G112<0,FALSE,MOD(COLUMN()-COLUMN($J$5)-$G112,$I112)=0,TRUE,FALSE),$J112*N$2,0)} -> 0 | O112: {=IF(_xlfn.SWITCH(TRUE,COLUMN()-COLUMN($J$5)-$G112<0,FALSE,MOD(COLUMN()-COLUMN($J$5)-$G112,$I112)=0,TRUE,FALSE),$J112*O$2,0)} -> 78630.859 | P112: {=IF(_xlfn.SWITCH(TRUE,COLUMN()-COLUMN($J$5)-$G112<0,FALSE,MOD(COLUMN()-COLUMN($J$5)-$G112,$I112)=0,TRUE,FALSE),$J112*P$2,0)} -> 0 | Q112: {=IF(_xlfn.SWITCH(TRUE,COLUMN()-COLUMN($J$5)-$G112<0,FALSE,MOD(COLUMN()-COLUMN($J$5)-$G112,$I112)=0,TRUE,FALSE),$J112*Q$2,0)} -> 0 | R112: {=IF(_xlfn.SWITCH(TRUE,COLUMN()-COLUMN($J$5)-$G112<0,FALSE,MOD(COLUMN()-COLUMN($J$5)-$G112,$I112)=0,TRUE,FALSE),$J112*R$2,0)} -> 0 | ... AD112: {=IF(_xlfn.SWITCH(TRUE,COLUMN()-COLUMN($J$5)-$G112<0,FALSE,MOD(COLUMN()-COLUMN($J$5)-$G112,$I112)=0,TRUE,FALSE),$J112*AD$2,0)} -> 0 | AE112: =SUM(K112:AD112) -> 78630.859
A113: MEP & Fire Protection | B113: 100 HP Armstrong 4300 Vertical In-Line Pump (S CHW) | C113: Main Concourse | D113: Mechanical | E113: Chilled Water | F113: Medium | G113: =H113-2024 -> 5 | H113: 2029 | I113: 20 | J113: =Costs!P112 -> 202500 | K113: {=IF(_xlfn.SWITCH(TRUE,COLUMN()-COLUMN($J$5)-$G113<0,FALSE,MOD(COLUMN()-COLUMN($J$5)-$G113,$I113)=0,TRUE,FALSE),$J113*K$2,0)} -> 0 | L113: {=IF(_xlfn.SWITCH(TRUE,COLUMN()-COLUMN($J$5)-$G113<0,FALSE,MOD(COLUMN()-COLUMN($J$5)-$G113,$I113)=0,TRUE,FALSE),$J113*L$2,0)} -> 0 | M113: {=IF(_xlfn.SWITCH(TRUE,COLUMN()-COLUMN($J$5)-$G113<0,FALSE,MOD(COLUMN()-COLUMN($J$5)-$G113,$I113)=0,TRUE,FALSE),$J113*M$2,0)} -> 0 | N113: {=IF(_xlfn.SWITCH(TRUE,COLUMN()-COLUMN($J$5)-$G113<0,FALSE,MOD(COLUMN()-COLUMN($J$5)-$G113,$I113)=0,TRUE,FALSE),$J113*N$2,0)} -> 0 | O113: {=IF(_xlfn.SWITCH(TRUE,COLUMN()-COLUMN($J$5)-$G113<0,FALSE,MOD(COLUMN()-COLUMN($J$5)-$G113,$I113)=0,TRUE,FALSE),$J113*O$2,0)} -> 235892.58 | P113: {=IF(_xlfn.SWITCH(TRUE,COLUMN()-COLUMN($J$5)-$G113<0,FALSE,MOD(COLUMN()-COLUMN($J$5)-$G113,$I113)=0,TRUE,FALSE),$J113*P$2,0)} -> 0 | Q113: {=IF(_xlfn.SWITCH(TRUE,COLUMN()-COLUMN($J$5)-$G113<0,FALSE,MOD(COLUMN()-COLUMN($J$5)-$G113,$I113)=0,TRUE,FALSE),$J113*Q$2,0)} -> 0 | R113: {=IF(_xlfn.SWITCH(TRUE,COLUMN()-COLUMN($J$5)-$G113<0,FALSE,MOD(COLUMN()-COLUMN($J$5)-$G113,$I113)=0,TRUE,FALSE),$J113*R$2,0)} -> 0 | ... AD113: {=IF(_xlfn.SWITCH(TRUE,COLUMN()-COLUMN($J$5)-$G113<0,FALSE,MOD(COLUMN()-COLUMN($J$5)-$G113,$I113)=0,TRUE,FALSE),$J113*AD$2,0)} -> 0 | AE113: =SUM(K113:AD113) -> 235892.58
A114: MEP & Fire Protection | B114: Secondary Chilled Water Pump 100 HP VFD - ABB | C114: Main Concourse | D114: Mechanical | E114: Chilled Water | F114: Low | G114: =H114-2024 -> 14 | H114: 2038 | I114: 20 | J114: =Costs!P113 -> 36450 | K114: {=IF(_xlfn.SWITCH(TRUE,COLUMN()-COLUMN($J$5)-$G114<0,FALSE,MOD(COLUMN()-COLUMN($J$5)-$G114,$I114)=0,TRUE,FALSE),$J114*K$2,0)} -> 0 | L114: {=IF(_xlfn.SWITCH(TRUE,COLUMN()-COLUMN($J$5)-$G114<0,FALSE,MOD(COLUMN()-COLUMN($J$5)-$G114,$I114)=0,TRUE,FALSE),$J114*L$2,0)} -> 0 | M114: {=IF(_xlfn.SWITCH(TRUE,COLUMN()-COLUMN($J$5)-$G114<0,FALSE,MOD(COLUMN()-COLUMN($J$5)-$G114,$I114)=0,TRUE,FALSE),$J114*M$2,0)} -> 0 | N114: {=IF(_xlfn.SWITCH(TRUE,COLUMN()-COLUMN($J$5)-$G114<0,FALSE,MOD(COLUMN()-COLUMN($J$5)-$G114,$I114)=0,TRUE,FALSE),$J114*N$2,0)} -> 0 | O114: {=IF(_xlfn.SWITCH(TRUE,COLUMN()-COLUMN($J$5)-$G114<0,FALSE,MOD(COLUMN()-COLUMN($J$5)-$G114,$I114)=0,TRUE,FALSE),$J114*O$2,0)} -> 0 | P114: {=IF(_xlfn.SWITCH(TRUE,COLUMN()-COLUMN($J$5)-$G114<0,FALSE,MOD(COLUMN()-COLUMN($J$5)-$G114,$I114)=0,TRUE,FALSE),$J114*P$2,0)} -> 0 | Q114: {=IF(_xlfn.SWITCH(TRUE,COLUMN()-COLUMN($J$5)-$G114<0,FALSE,MOD(COLUMN()-COLUMN($J$5)-$G114,$I114)=0,TRUE,FALSE),$J114*Q$2,0)} -> 0 | R114: {=IF(_xlfn.SWITCH(TRUE,COLUMN()-COLUMN($J$5)-$G114<0,FALSE,MOD(COLUMN()-COLUMN($J$5)-$G114,$I114)=0,TRUE,FALSE),$J114*R$2,0)} -> 0 | ... AD114: {=IF(_xlfn.SWITCH(TRUE,COLUMN()-COLUMN($J$5)-$G114<0,FALSE,MOD(COLUMN()-COLUMN($J$5)-$G114,$I114)=0,TRUE,FALSE),$J114*AD$2,0)} -> 0 | AE114: =SUM(K114:AD114) -> 55401.536
A115: MEP & Fire Protection | B115: 50 HP Armstrong 4300 Vertical In-Line Pump (CW) | C115: Lower Bowl Seating | D115: Mechanical | E115: Chilled Water | F115: Medium | G115: =H115-2024 -> 5 | H115: 2029 | I115: 20 | J115: =Costs!P114 -> 175500 | K115: {=IF(_xlfn.SWITCH(TRUE,COLUMN()-COLUMN($J$5)-$G115<0,FALSE,MOD(COLUMN()-COLUMN($J$5)-$G115,$I115)=0,TRUE,FALSE),$J115*K$2,0)} -> 0 | L115: {=IF(_xlfn.SWITCH(TRUE,COLUMN()-COLUMN($J$5)-$G115<0,FALSE,MOD(COLUMN()-COLUMN($J$5)-$G115,$I115)=0,TRUE,FALSE),$J115*L$2,0)} -> 0 | M115: {=IF(_xlfn.SWITCH(TRUE,COLUMN()-COLUMN($J$5)-$G115<0,FALSE,MOD(COLUMN()-COLUMN($J$5)-$G115,$I115)=0,TRUE,FALSE),$J115*M$2,0)} -> 0 | N115: {=IF(_xlfn.SWITCH(TRUE,COLUMN()-COLUMN($J$5)-$G115<0,FALSE,MOD(COLUMN()-COLUMN($J$5)-$G115,$I115)=0,TRUE,FALSE),$J115*N$2,0)} -> 0 | O115: {=IF(_xlfn.SWITCH(TRUE,COLUMN()-COLUMN($J$5)-$G115<0,FALSE,MOD(COLUMN()-COLUMN($J$5)-$G115,$I115)=0,TRUE,FALSE),$J115*O$2,0)} -> 204440.23 | P115: {=IF(_xlfn.SWITCH(TRUE,COLUMN()-COLUMN($J$5)-$G115<0,FALSE,MOD(COLUMN()-COLUMN($J$5)-$G115,$I115)=0,TRUE,FALSE),$J115*P$2,0)} -> 0 | Q115: {=IF(_xlfn.SWITCH(TRUE,COLUMN()-COLUMN($J$5)-$G115<0,FALSE,MOD(COLUMN()-COLUMN($J$5)-$G115,$I115)=0,TRUE,FALSE),$J115*Q$2,0)} -> 0 | R115: {=IF(_xlfn.SWITCH(TRUE,COLUMN()-COLUMN($J$5)-$G115<0,FALSE,MOD(COLUMN()-COLUMN($J$5)-$G115,$I115)=0,TRUE,FALSE),$J115*R$2,0)} -> 0 | ... AD115: {=IF(_xlfn.SWITCH(TRUE,COLUMN()-COLUMN($J$5)-$G115<0,FALSE,MOD(COLUMN()-COLUMN($J$5)-$G115,$I115)=0,TRUE,FALSE),$J115*AD$2,0)} -> 0 | AE115: =SUM(K115:AD115) -> 204440.23
A116: MEP & Fire Protection | B116: 30 HP Armstrong 4300 Vertical In-Line Pump (CW) | C116: Lower Bowl Seating | D116: Mechanical | E116: Chilled Water | F116: Medium | G116: =H116-2024 -> 5 | H116: 2029 | I116: 20 | J116: =Costs!P115 -> 74250 | K116: {=IF(_xlfn.SWITCH(TRUE,COLUMN()-COLUMN($J$5)-$G116<0,FALSE,MOD(COLUMN()-COLUMN($J$5)-$G116,$I116)=0,TRUE,FALSE),$J116*K$2,0)} -> 0 | L116: {=IF(_xlfn.SWITCH(TRUE,COLUMN()-COLUMN($J$5)-$G116<0,FALSE,MOD(COLUMN()-COLUMN($J$5)-$G116,$I116)=0,TRUE,FALSE),$J116*L$2,0)} -> 0 | M116: {=IF(_xlfn.SWITCH(TRUE,COLUMN()-COLUMN($J$5)-$G116<0,FALSE,MOD(COLUMN()-COLUMN($J$5)-$G116,$I116)=0,TRUE,FALSE),$J116*M$2,0)} -> 0 | N116: {=IF(_xlfn.SWITCH(TRUE,COLUMN()-COLUMN($J$5)-$G116<0,FALSE,MOD(COLUMN()-COLUMN($J$5)-$G116,$I116)=0,TRUE,FALSE),$J116*N$2,0)} -> 0 | O116: {=IF(_xlfn.SWITCH(TRUE,COLUMN()-COLUMN($J$5)-$G116<0,FALSE,MOD(COLUMN()-COLUMN($J$5)-$G116,$I116)=0,TRUE,FALSE),$J116*O$2,0)} -> 86493.945 | P116: {=IF(_xlfn.SWITCH(TRUE,COLUMN()-COLUMN($J$5)-$G116<0,FALSE,MOD(COLUMN()-COLUMN($J$5)-$G116,$I116)=0,TRUE,FALSE),$J116*P$2,0)} -> 0 | Q116: {=IF(_xlfn.SWITCH(TRUE,COLUMN()-COLUMN($J$5)-$G116<0,FALSE,MOD(COLUMN()-COLUMN($J$5)-$G116,$I116)=0,TRUE,FALSE),$J116*Q$2,0)} -> 0 | R116: {=IF(_xlfn.SWITCH(TRUE,COLUMN()-COLUMN($J$5)-$G116<0,FALSE,MOD(COLUMN()-COLUMN($J$5)-$G116,$I116)=0,TRUE,FALSE),$J116*R$2,0)} -> 0 | ... AD116: {=IF(_xlfn.SWITCH(TRUE,COLUMN()-COLUMN($J$5)-$G116<0,FALSE,MOD(COLUMN()-COLUMN($J$5)-$G116,$I116)=0,TRUE,FALSE),$J116*AD$2,0)} -> 0 | AE116: =SUM(K116:AD116) -> 86493.945
A117: MEP & Fire Protection | B117: 2,300 GPM, 50 HP Cooling Tower - BAC | C117: Lower Press Level | D117: Mechanical | E117: Chilled Water | F117: Low | G117: =H117-2024 -> 15 | H117: 2039 | I117: 18 | J117: =Costs!P116 -> 675000 | K117: {=IF(_xlfn.SWITCH(TRUE,COLUMN()-COLUMN($J$5)-$G117<0,FALSE,MOD(COLUMN()-COLUMN($J$5)-$G117,$I117)=0,TRUE,FALSE),$J117*K$2,0)} -> 0 | L117: {=IF(_xlfn.SWITCH(TRUE,COLUMN()-COLUMN($J$5)-$G117<0,FALSE,MOD(COLUMN()-COLUMN($J$5)-$G117,$I117)=0,TRUE,FALSE),$J117*L$2,0)} -> 0 | M117: {=IF(_xlfn.SWITCH(TRUE,COLUMN()-COLUMN($J$5)-$G117<0,FALSE,MOD(COLUMN()-COLUMN($J$5)-$G117,$I117)=0,TRUE,FALSE),$J117*M$2,0)} -> 0 | N117: {=IF(_xlfn.SWITCH(TRUE,COLUMN()-COLUMN($J$5)-$G117<0,FALSE,MOD(COLUMN()-COLUMN($J$5)-$G117,$I117)=0,TRUE,FALSE),$J117*N$2,0)} -> 0 | O117: {=IF(_xlfn.SWITCH(TRUE,COLUMN()-COLUMN($J$5)-$G117<0,FALSE,MOD(COLUMN()-COLUMN($J$5)-$G117,$I117)=0,TRUE,FALSE),$J117*O$2,0)} -> 0 | P117: {=IF(_xlfn.SWITCH(TRUE,COLUMN()-COLUMN($J$5)-$G117<0,FALSE,MOD(COLUMN()-COLUMN($J$5)-$G117,$I117)=0,TRUE,FALSE),$J117*P$2,0)} -> 0 | Q117: {=IF(_xlfn.SWITCH(TRUE,COLUMN()-COLUMN($J$5)-$G117<0,FALSE,MOD(COLUMN()-COLUMN($J$5)-$G117,$I117)=0,TRUE,FALSE),$J117*Q$2,0)} -> 0 | R117: {=IF(_xlfn.SWITCH(TRUE,COLUMN()-COLUMN($J$5)-$G117<0,FALSE,MOD(COLUMN()-COLUMN($J$5)-$G117,$I117)=0,TRUE,FALSE),$J117*R$2,0)} -> 0 | ... AD117: {=IF(_xlfn.SWITCH(TRUE,COLUMN()-COLUMN($J$5)-$G117<0,FALSE,MOD(COLUMN()-COLUMN($J$5)-$G117,$I117)=0,TRUE,FALSE),$J117*AD$2,0)} -> 0 | AE117: =SUM(K117:AD117) -> 1056733
A118: MEP & Fire Protection | B118: 1,140 GPM, 25 HP Cooling Tower - BAC | C118: Lower Press Level | D118: Mechanical | E118: Chilled Water | F118: Low | G118: =H118-2024 -> 15 | H118: 2039 | I118: 18 | J118: =Costs!P117 -> 270000 | K118: {=IF(_xlfn.SWITCH(TRUE,COLUMN()-COLUMN($J$5)-$G118<0,FALSE,MOD(COLUMN()-COLUMN($J$5)-$G118,$I118)=0,TRUE,FALSE),$J118*K$2,0)} -> 0 | L118: {=IF(_xlfn.SWITCH(TRUE,COLUMN()-COLUMN($J$5)-$G118<0,FALSE,MOD(COLUMN()-COLUMN($J$5)-$G118,$I118)=0,TRUE,FALSE),$J118*L$2,0)} -> 0 | M118: {=IF(_xlfn.SWITCH(TRUE,COLUMN()-COLUMN($J$5)-$G118<0,FALSE,MOD(COLUMN()-COLUMN($J$5)-$G118,$I118)=0,TRUE,FALSE),$J118*M$2,0)} -> 0 | N118: {=IF(_xlfn.SWITCH(TRUE,COLUMN()-COLUMN($J$5)-$G118<0,FALSE,MOD(COLUMN()-COLUMN($J$5)-$G118,$I118)=0,TRUE,FALSE),$J118*N$2,0)} -> 0 | O118: {=IF(_xlfn.SWITCH(TRUE,COLUMN()-COLUMN($J$5)-$G118<0,FALSE,MOD(COLUMN()-COLUMN($J$5)-$G118,$I118)=0,TRUE,FALSE),$J118*O$2,0)} -> 0 | P118: {=IF(_xlfn.SWITCH(TRUE,COLUMN()-COLUMN($J$5)-$G118<0,FALSE,MOD(COLUMN()-COLUMN($J$5)-$G118,$I118)=0,TRUE,FALSE),$J118*P$2,0)} -> 0 | Q118: {=IF(_xlfn.SWITCH(TRUE,COLUMN()-COLUMN($J$5)-$G118<0,FALSE,MOD(COLUMN()-COLUMN($J$5)-$G118,$I118)=0,TRUE,FALSE),$J118*Q$2,0)} -> 0 | R118: {=IF(_xlfn.SWITCH(TRUE,COLUMN()-COLUMN($J$5)-$G118<0,FALSE,MOD(COLUMN()-COLUMN($J$5)-$G118,$I118)=0,TRUE,FALSE),$J118*R$2,0)} -> 0 | ... AD118: {=IF(_xlfn.SWITCH(TRUE,COLUMN()-COLUMN($J$5)-$G118<0,FALSE,MOD(COLUMN()-COLUMN($J$5)-$G118,$I118)=0,TRUE,FALSE),$J118*AD$2,0)} -> 0 | AE118: =SUM(K118:AD118) -> 422693.2
A119: MEP & Fire Protection | B119: Cooling Tower Fan 50 HP VFD - ABB | C119: Lower Bowl Seating | D119: Mechanical | E119: Chilled Water | F119: Low | G119: =H119-2024 -> 15 | H119: 2039 | I119: 20 | J119: =Costs!P118 -> 32400 | K119: {=IF(_xlfn.SWITCH(TRUE,COLUMN()-COLUMN($J$5)-$G119<0,FALSE,MOD(COLUMN()-COLUMN($J$5)-$G119,$I119)=0,TRUE,FALSE),$J119*K$2,0)} -> 0 | L119: {=IF(_xlfn.SWITCH(TRUE,COLUMN()-COLUMN($J$5)-$G119<0,FALSE,MOD(COLUMN()-COLUMN($J$5)-$G119,$I119)=0,TRUE,FALSE),$J119*L$2,0)} -> 0 | M119: {=IF(_xlfn.SWITCH(TRUE,COLUMN()-COLUMN($J$5)-$G119<0,FALSE,MOD(COLUMN()-COLUMN($J$5)-$G119,$I119)=0,TRUE,FALSE),$J119*M$2,0)} -> 0 | N119: {=IF(_xlfn.SWITCH(TRUE,COLUMN()-COLUMN($J$5)-$G119<0,FALSE,MOD(COLUMN()-COLUMN($J$5)-$G119,$I119)=0,TRUE,FALSE),$J119*N$2,0)} -> 0 | O119: {=IF(_xlfn.SWITCH(TRUE,COLUMN()-COLUMN($J$5)-$G119<0,FALSE,MOD(COLUMN()-COLUMN($J$5)-$G119,$I119)=0,TRUE,FALSE),$J119*O$2,0)} -> 0 | P119: {=IF(_xlfn.SWITCH(TRUE,COLUMN()-COLUMN($J$5)-$G119<0,FALSE,MOD(COLUMN()-COLUMN($J$5)-$G119,$I119)=0,TRUE,FALSE),$J119*P$2,0)} -> 0 | Q119: {=IF(_xlfn.SWITCH(TRUE,COLUMN()-COLUMN($J$5)-$G119<0,FALSE,MOD(COLUMN()-COLUMN($J$5)-$G119,$I119)=0,TRUE,FALSE),$J119*Q$2,0)} -> 0 | R119: {=IF(_xlfn.SWITCH(TRUE,COLUMN()-COLUMN($J$5)-$G119<0,FALSE,MOD(COLUMN()-COLUMN($J$5)-$G119,$I119)=0,TRUE,FALSE),$J119*R$2,0)} -> 0 | ... AD119: {=IF(_xlfn.SWITCH(TRUE,COLUMN()-COLUMN($J$5)-$G119<0,FALSE,MOD(COLUMN()-COLUMN($J$5)-$G119,$I119)=0,TRUE,FALSE),$J119*AD$2,0)} -> 0 | AE119: =SUM(K119:AD119) -> 50723.184
A120: MEP & Fire Protection | B120: Cooling Tower Fan 25 HP VFD - ABB | C120: Lower Bowl Seating | D120: Mechanical | E120: Chilled Water | F120: Low | G120: =H120-2024 -> 15 | H120: 2039 | I120: 20 | J120: =Costs!P119 -> 13500 | K120: {=IF(_xlfn.SWITCH(TRUE,COLUMN()-COLUMN($J$5)-$G120<0,FALSE,MOD(COLUMN()-COLUMN($J$5)-$G120,$I120)=0,TRUE,FALSE),$J120*K$2,0)} -> 0 | L120: {=IF(_xlfn.SWITCH(TRUE,COLUMN()-COLUMN($J$5)-$G120<0,FALSE,MOD(COLUMN()-COLUMN($J$5)-$G120,$I120)=0,TRUE,FALSE),$J120*L$2,0)} -> 0 | M120: {=IF(_xlfn.SWITCH(TRUE,COLUMN()-COLUMN($J$5)-$G120<0,FALSE,MOD(COLUMN()-COLUMN($J$5)-$G120,$I120)=0,TRUE,FALSE),$J120*M$2,0)} -> 0 | N120: {=IF(_xlfn.SWITCH(TRUE,COLUMN()-COLUMN($J$5)-$G120<0,FALSE,MOD(COLUMN()-COLUMN($J$5)-$G120,$I120)=0,TRUE,FALSE),$J120*N$2,0)} -> 0 | O120: {=IF(_xlfn.SWITCH(TRUE,COLUMN()-COLUMN($J$5)-$G120<0,FALSE,MOD(COLUMN()-COLUMN($J$5)-$G120,$I120)=0,TRUE,FALSE),$J120*O$2,0)} -> 0 | P120: {=IF(_xlfn.SWITCH(TRUE,COLUMN()-COLUMN($J$5)-$G120<0,FALSE,MOD(COLUMN()-COLUMN($J$5)-$G120,$I120)=0,TRUE,FALSE),$J120*P$2,0)} -> 0 | Q120: {=IF(_xlfn.SWITCH(TRUE,COLUMN()-COLUMN($J$5)-$G120<0,FALSE,MOD(COLUMN()-COLUMN($J$5)-$G120,$I120)=0,TRUE,FALSE),$J120*Q$2,0)} -> 0 | R120: {=IF(_xlfn.SWITCH(TRUE,COLUMN()-COLUMN($J$5)-$G120<0,FALSE,MOD(COLUMN()-COLUMN($J$5)-$G120,$I120)=0,TRUE,FALSE),$J120*R$2,0)} -> 0 | ... AD120: {=IF(_xlfn.SWITCH(TRUE,COLUMN()-COLUMN($J$5)-$G120<0,FALSE,MOD(COLUMN()-COLUMN($J$5)-$G120,$I120)=0,TRUE,FALSE),$J120*AD$2,0)} -> 0 | AE120: =SUM(K120:AD120) -> 21134.66
... A132: MEP & Fire Protection | B132: Bowl Air Handling Unit - Carrier - 47,000 CFM | C132: Upper Bowl Seating | D132: Mechanical | E132: Air Distribution | F132: High | G132: =H132-2024 -> 3 | H132: 2027 | I132: 20 | J132: =Costs!P131 -> 6091200 | K132: {=IF(_xlfn.SWITCH(TRUE,COLUMN()-COLUMN($J$5)-$G132<0,FALSE,MOD(COLUMN()-COLUMN($J$5)-$G132,$I132)=0,TRUE,FALSE),$J132*K$2,0)} -> 0 | L132: {=IF(_xlfn.SWITCH(TRUE,COLUMN()-COLUMN($J$5)-$G132<0,FALSE,MOD(COLUMN()-COLUMN($J$5)-$G132,$I132)=0,TRUE,FALSE),$J132*L$2,0)} -> 0 | M132: {=IF(_xlfn.SWITCH(TRUE,COLUMN()-COLUMN($J$5)-$G132<0,FALSE,MOD(COLUMN()-COLUMN($J$5)-$G132,$I132)=0,TRUE,FALSE),$J132*M$2,0)} -> 6688329.5 | N132: {=IF(_xlfn.SWITCH(TRUE,COLUMN()-COLUMN($J$5)-$G132<0,FALSE,MOD(COLUMN()-COLUMN($J$5)-$G132,$I132)=0,TRUE,FALSE),$J132*N$2,0)} -> 0 | O132: {=IF(_xlfn.SWITCH(TRUE,COLUMN()-COLUMN($J$5)-$G132<0,FALSE,MOD(COLUMN()-COLUMN($J$5)-$G132,$I132)=0,TRUE,FALSE),$J132*O$2,0)} -> 0 | P132: {=IF(_xlfn.SWITCH(TRUE,COLUMN()-COLUMN($J$5)-$G132<0,FALSE,MOD(COLUMN()-COLUMN($J$5)-$G132,$I132)=0,TRUE,FALSE),$J132*P$2,0)} -> 0 | Q132: {=IF(_xlfn.SWITCH(TRUE,COLUMN()-COLUMN($J$5)-$G132<0,FALSE,MOD(COLUMN()-COLUMN($J$5)-$G132,$I132)=0,TRUE,FALSE),$J132*Q$2,0)} -> 0 | R132: {=IF(_xlfn.SWITCH(TRUE,COLUMN()-COLUMN($J$5)-$G132<0,FALSE,MOD(COLUMN()-COLUMN($J$5)-$G132,$I132)=0,TRUE,FALSE),$J132*R$2,0)} -> 0 | ... AD132: {=IF(_xlfn.SWITCH(TRUE,COLUMN()-COLUMN($J$5)-$G132<0,FALSE,MOD(COLUMN()-COLUMN($J$5)-$G132,$I132)=0,TRUE,FALSE),$J132*AD$2,0)} -> 0 | AE132: =SUM(K132:AD132) -> 6688329.5
A133: MEP & Fire Protection | B133: Support Air Handling Units - Carrier - Avg 16,000 CFM | D133: Mechanical | E133: Air Distribution | F133: High | G133: =H133-2024 -> 4 | H133: 2028 | I133: 22 | J133: =Costs!P132 -> 1370250 | K133: {=IF(_xlfn.SWITCH(TRUE,COLUMN()-COLUMN($J$5)-$G133<0,FALSE,MOD(COLUMN()-COLUMN($J$5)-$G133,$I133)=0,TRUE,FALSE),$J133*K$2,0)} -> 0 | L133: {=IF(_xlfn.SWITCH(TRUE,COLUMN()-COLUMN($J$5)-$G133<0,FALSE,MOD(COLUMN()-COLUMN($J$5)-$G133,$I133)=0,TRUE,FALSE),$J133*L$2,0)} -> 0 | M133: {=IF(_xlfn.SWITCH(TRUE,COLUMN()-COLUMN($J$5)-$G133<0,FALSE,MOD(COLUMN()-COLUMN($J$5)-$G133,$I133)=0,TRUE,FALSE),$J133*M$2,0)} -> 0 | N133: {=IF(_xlfn.SWITCH(TRUE,COLUMN()-COLUMN($J$5)-$G133<0,FALSE,MOD(COLUMN()-COLUMN($J$5)-$G133,$I133)=0,TRUE,FALSE),$J133*N$2,0)} -> 1549715 | O133: {=IF(_xlfn.SWITCH(TRUE,COLUMN()-COLUMN($J$5)-$G133<0,FALSE,MOD(COLUMN()-COLUMN($J$5)-$G133,$I133)=0,TRUE,FALSE),$J133*O$2,0)} -> 0 | P133: {=IF(_xlfn.SWITCH(TRUE,COLUMN()-COLUMN($J$5)-$G133<0,FALSE,MOD(COLUMN()-COLUMN($J$5)-$G133,$I133)=0,TRUE,FALSE),$J133*P$2,0)} -> 0 | Q133: {=IF(_xlfn.SWITCH(TRUE,COLUMN()-COLUMN($J$5)-$G133<0,FALSE,MOD(COLUMN()-COLUMN($J$5)-$G133,$I133)=0,TRUE,FALSE),$J133*Q$2,0)} -> 0 | R133: {=IF(_xlfn.SWITCH(TRUE,COLUMN()-COLUMN($J$5)-$G133<0,FALSE,MOD(COLUMN()-COLUMN($J$5)-$G133,$I133)=0,TRUE,FALSE),$J133*R$2,0)} -> 0 | ... AD133: {=IF(_xlfn.SWITCH(TRUE,COLUMN()-COLUMN($J$5)-$G133<0,FALSE,MOD(COLUMN()-COLUMN($J$5)-$G133,$I133)=0,TRUE,FALSE),$J133*AD$2,0)} -> 0 | AE133: =SUM(K133:AD133) -> 1549715
A134: MEP & Fire Protection | B134: Water Source Heat Pump - Avg 1,300 CFM | D134: Mechanical | E134: Air Distribution | F134: Medium | G134: =H134-2024 -> 5 | H134: 2029 | I134: 18 | J134: =Costs!P133 -> 2106000 | K134: {=IF(_xlfn.SWITCH(TRUE,COLUMN()-COLUMN($J$5)-$G134<0,FALSE,MOD(COLUMN()-COLUMN($J$5)-$G134,$I134)=0,TRUE,FALSE),$J134*K$2,0)} -> 0 | L134: {=IF(_xlfn.SWITCH(TRUE,COLUMN()-COLUMN($J$5)-$G134<0,FALSE,MOD(COLUMN()-COLUMN($J$5)-$G134,$I134)=0,TRUE,FALSE),$J134*L$2,0)} -> 0 | M134: {=IF(_xlfn.SWITCH(TRUE,COLUMN()-COLUMN($J$5)-$G134<0,FALSE,MOD(COLUMN()-COLUMN($J$5)-$G134,$I134)=0,TRUE,FALSE),$J134*M$2,0)} -> 0 | N134: {=IF(_xlfn.SWITCH(TRUE,COLUMN()-COLUMN($J$5)-$G134<0,FALSE,MOD(COLUMN()-COLUMN($J$5)-$G134,$I134)=0,TRUE,FALSE),$J134*N$2,0)} -> 0 | O134: {=IF(_xlfn.SWITCH(TRUE,COLUMN()-COLUMN($J$5)-$G134<0,FALSE,MOD(COLUMN()-COLUMN($J$5)-$G134,$I134)=0,TRUE,FALSE),$J134*O$2,0)} -> 2453282.8 | P134: {=IF(_xlfn.SWITCH(TRUE,COLUMN()-COLUMN($J$5)-$G134<0,FALSE,MOD(COLUMN()-COLUMN($J$5)-$G134,$I134)=0,TRUE,FALSE),$J134*P$2,0)} -> 0 | Q134: {=IF(_xlfn.SWITCH(TRUE,COLUMN()-COLUMN($J$5)-$G134<0,FALSE,MOD(COLUMN()-COLUMN($J$5)-$G134,$I134)=0,TRUE,FALSE),$J134*Q$2,0)} -> 0 | R134: {=IF(_xlfn.SWITCH(TRUE,COLUMN()-COLUMN($J$5)-$G134<0,FALSE,MOD(COLUMN()-COLUMN($J$5)-$G134,$I134)=0,TRUE,FALSE),$J134*R$2,0)} -> 0 | ... AD134: {=IF(_xlfn.SWITCH(TRUE,COLUMN()-COLUMN($J$5)-$G134<0,FALSE,MOD(COLUMN()-COLUMN($J$5)-$G134,$I134)=0,TRUE,FALSE),$J134*AD$2,0)} -> 0 | AE134: =SUM(K134:AD134) -> 2453282.8
A135: MEP & Fire Protection | B135: Exhaust Fans - General - Avg 10,420 CFM | D135: Mechanical | E135: Air Distribution | F135: Medium | G135: =H135-2024 -> 7 | H135: 2031 | I135: 25 | J135: =Costs!P134 -> 230850 | K135: {=IF(_xlfn.SWITCH(TRUE,COLUMN()-COLUMN($J$5)-$G135<0,FALSE,MOD(COLUMN()-COLUMN($J$5)-$G135,$I135)=0,TRUE,FALSE),$J135*K$2,0)} -> 0 | L135: {=IF(_xlfn.SWITCH(TRUE,COLUMN()-COLUMN($J$5)-$G135<0,FALSE,MOD(COLUMN()-COLUMN($J$5)-$G135,$I135)=0,TRUE,FALSE),$J135*L$2,0)} -> 0 | M135: {=IF(_xlfn.SWITCH(TRUE,COLUMN()-COLUMN($J$5)-$G135<0,FALSE,MOD(COLUMN()-COLUMN($J$5)-$G135,$I135)=0,TRUE,FALSE),$J135*M$2,0)} -> 0 | N135: {=IF(_xlfn.SWITCH(TRUE,COLUMN()-COLUMN($J$5)-$G135<0,FALSE,MOD(COLUMN()-COLUMN($J$5)-$G135,$I135)=0,TRUE,FALSE),$J135*N$2,0)} -> 0 | O135: {=IF(_xlfn.SWITCH(TRUE,COLUMN()-COLUMN($J$5)-$G135<0,FALSE,MOD(COLUMN()-COLUMN($J$5)-$G135,$I135)=0,TRUE,FALSE),$J135*O$2,0)} -> 0 | P135: {=IF(_xlfn.SWITCH(TRUE,COLUMN()-COLUMN($J$5)-$G135<0,FALSE,MOD(COLUMN()-COLUMN($J$5)-$G135,$I135)=0,TRUE,FALSE),$J135*P$2,0)} -> 0 | Q135: {=IF(_xlfn.SWITCH(TRUE,COLUMN()-COLUMN($J$5)-$G135<0,FALSE,MOD(COLUMN()-COLUMN($J$5)-$G135,$I135)=0,TRUE,FALSE),$J135*Q$2,0)} -> 285294.62 | R135: {=IF(_xlfn.SWITCH(TRUE,COLUMN()-COLUMN($J$5)-$G135<0,FALSE,MOD(COLUMN()-COLUMN($J$5)-$G135,$I135)=0,TRUE,FALSE),$J135*R$2,0)} -> 0 | ... AD135: {=IF(_xlfn.SWITCH(TRUE,COLUMN()-COLUMN($J$5)-$G135<0,FALSE,MOD(COLUMN()-COLUMN($J$5)-$G135,$I135)=0,TRUE,FALSE),$J135*AD$2,0)} -> 0 | AE135: =SUM(K135:AD135) -> 285294.62
A136: MEP & Fire Protection | B136: Exhaust Fans - Garage - Avg 125,400 CFM | D136: Mechanical | E136: Air Distribution | F136: Medium | G136: =H136-2024 -> 7 | H136: 2031 | I136: 25 | J136: =Costs!P135 -> 108000 | K136: {=IF(_xlfn.SWITCH(TRUE,COLUMN()-COLUMN($J$5)-$G136<0,FALSE,MOD(COLUMN()-COLUMN($J$5)-$G136,$I136)=0,TRUE,FALSE),$J136*K$2,0)} -> 0 | L136: {=IF(_xlfn.SWITCH(TRUE,COLUMN()-COLUMN($J$5)-$G136<0,FALSE,MOD(COLUMN()-COLUMN($J$5)-$G136,$I136)=0,TRUE,FALSE),$J136*L$2,0)} -> 0 | M136: {=IF(_xlfn.SWITCH(TRUE,COLUMN()-COLUMN($J$5)-$G136<0,FALSE,MOD(COLUMN()-COLUMN($J$5)-$G136,$I136)=0,TRUE,FALSE),$J136*M$2,0)} -> 0 | N136: {=IF(_xlfn.SWITCH(TRUE,COLUMN()-COLUMN($J$5)-$G136<0,FALSE,MOD(COLUMN()-COLUMN($J$5)-$G136,$I136)=0,TRUE,FALSE),$J136*N$2,0)} -> 0 | O136: {=IF(_xlfn.SWITCH(TRUE,COLUMN()-COLUMN($J$5)-$G136<0,FALSE,MOD(COLUMN()-COLUMN($J$5)-$G136,$I136)=0,TRUE,FALSE),$J136*O$2,0)} -> 0 | P136: {=IF(_xlfn.SWITCH(TRUE,COLUMN()-COLUMN($J$5)-$G136<0,FALSE,MOD(COLUMN()-COLUMN($J$5)-$G136,$I136)=0,TRUE,FALSE),$J136*P$2,0)} -> 0 | Q136: {=IF(_xlfn.SWITCH(TRUE,COLUMN()-COLUMN($J$5)-$G136<0,FALSE,MOD(COLUMN()-COLUMN($J$5)-$G136,$I136)=0,TRUE,FALSE),$J136*Q$2,0)} -> 133471.17 | R136: {=IF(_xlfn.SWITCH(TRUE,COLUMN()-COLUMN($J$5)-$G136<0,FALSE,MOD(COLUMN()-COLUMN($J$5)-$G136,$I136)=0,TRUE,FALSE),$J136*R$2,0)} -> 0 | ... AD136: {=IF(_xlfn.SWITCH(TRUE,COLUMN()-COLUMN($J$5)-$G136<0,FALSE,MOD(COLUMN()-COLUMN($J$5)-$G136,$I136)=0,TRUE,FALSE),$J136*AD$2,0)} -> 0 | AE136: =SUM(K136:AD136) -> 133471.17
A137: MEP & Fire Protection | B137: Exhaust Fans - Smoke - 68,000 CFM | D137: Mechanical | E137: Air Distribution | F137: Medium | G137: =H137-2024 -> 7 | H137: 2031 | I137: 25 | J137: =Costs!P136 -> 33750 | K137: {=IF(_xlfn.SWITCH(TRUE,COLUMN()-COLUMN($J$5)-$G137<0,FALSE,MOD(COLUMN()-COLUMN($J$5)-$G137,$I137)=0,TRUE,FALSE),$J137*K$2,0)} -> 0 | L137: {=IF(_xlfn.SWITCH(TRUE,COLUMN()-COLUMN($J$5)-$G137<0,FALSE,MOD(COLUMN()-COLUMN($J$5)-$G137,$I137)=0,TRUE,FALSE),$J137*L$2,0)} -> 0 | M137: {=IF(_xlfn.SWITCH(TRUE,COLUMN()-COLUMN($J$5)-$G137<0,FALSE,MOD(COLUMN()-COLUMN($J$5)-$G137,$I137)=0,TRUE,FALSE),$J137*M$2,0)} -> 0 | N137: {=IF(_xlfn.SWITCH(TRUE,COLUMN()-COLUMN($J$5)-$G137<0,FALSE,MOD(COLUMN()-COLUMN($J$5)-$G137,$I137)=0,TRUE,FALSE),$J137*N$2,0)} -> 0 | O137: {=IF(_xlfn.SWITCH(TRUE,COLUMN()-COLUMN($J$5)-$G137<0,FALSE,MOD(COLUMN()-COLUMN($J$5)-$G137,$I137)=0,TRUE,FALSE),$J137*O$2,0)} -> 0 | P137: {=IF(_xlfn.SWITCH(TRUE,COLUMN()-COLUMN($J$5)-$G137<0,FALSE,MOD(COLUMN()-COLUMN($J$5)-$G137,$I137)=0,TRUE,FALSE),$J137*P$2,0)} -> 0 | Q137: {=IF(_xlfn.SWITCH(TRUE,COLUMN()-COLUMN($J$5)-$G137<0,FALSE,MOD(COLUMN()-COLUMN($J$5)-$G137,$I137)=0,TRUE,FALSE),$J137*Q$2,0)} -> 41709.739 | R137: {=IF(_xlfn.SWITCH(TRUE,COLUMN()-COLUMN($J$5)-$G137<0,FALSE,MOD(COLUMN()-COLUMN($J$5)-$G137,$I137)=0,TRUE,FALSE),$J137*R$2,0)} -> 0 | ... AD137: {=IF(_xlfn.SWITCH(TRUE,COLUMN()-COLUMN($J$5)-$G137<0,FALSE,MOD(COLUMN()-COLUMN($J$5)-$G137,$I137)=0,TRUE,FALSE),$J137*AD$2,0)} -> 0 | AE137: =SUM(K137:AD137) -> 41709.739
A138: MEP & Fire Protection | B138: Exhaust Fans - Grease - Avg 6,500 CFM | D138: Mechanical | E138: Air Distribution | F138: Medium | G138: =H138-2024 -> 7 | H138: 2031 | I138: 25 | J138: =Costs!P137 -> 340200 | K138: {=IF(_xlfn.SWITCH(TRUE,COLUMN()-COLUMN($J$5)-$G138<0,FALSE,MOD(COLUMN()-COLUMN($J$5)-$G138,$I138)=0,TRUE,FALSE),$J138*K$2,0)} -> 0 | L138: {=IF(_xlfn.SWITCH(TRUE,COLUMN()-COLUMN($J$5)-$G138<0,FALSE,MOD(COLUMN()-COLUMN($J$5)-$G138,$I138)=0,TRUE,FALSE),$J138*L$2,0)} -> 0 | M138: {=IF(_xlfn.SWITCH(TRUE,COLUMN()-COLUMN($J$5)-$G138<0,FALSE,MOD(COLUMN()-COLUMN($J$5)-$G138,$I138)=0,TRUE,FALSE),$J138*M$2,0)} -> 0 | N138: {=IF(_xlfn.SWITCH(TRUE,COLUMN()-COLUMN($J$5)-$G138<0,FALSE,MOD(COLUMN()-COLUMN($J$5)-$G138,$I138)=0,TRUE,FALSE),$J138*N$2,0)} -> 0 | O138: {=IF(_xlfn.SWITCH(TRUE,COLUMN()-COLUMN($J$5)-$G138<0,FALSE,MOD(COLUMN()-COLUMN($J$5)-$G138,$I138)=0,TRUE,FALSE),$J138*O$2,0)} -> 0 | P138: {=IF(_xlfn.SWITCH(TRUE,COLUMN()-COLUMN($J$5)-$G138<0,FALSE,MOD(COLUMN()-COLUMN($J$5)-$G138,$I138)=0,TRUE,FALSE),$J138*P$2,0)} -> 0 | Q138: {=IF(_xlfn.SWITCH(TRUE,COLUMN()-COLUMN($J$5)-$G138<0,FALSE,MOD(COLUMN()-COLUMN($J$5)-$G138,$I138)=0,TRUE,FALSE),$J138*Q$2,0)} -> 420434.17 | R138: {=IF(_xlfn.SWITCH(TRUE,COLUMN()-COLUMN($J$5)-$G138<0,FALSE,MOD(COLUMN()-COLUMN($J$5)-$G138,$I138)=0,TRUE,FALSE),$J138*R$2,0)} -> 0 | ... AD138: {=IF(_xlfn.SWITCH(TRUE,COLUMN()-COLUMN($J$5)-$G138<0,FALSE,MOD(COLUMN()-COLUMN($J$5)-$G138,$I138)=0,TRUE,FALSE),$J138*AD$2,0)} -> 0 | AE138: =SUM(K138:AD138) -> 420434.17
...

Sheet Costs
G2: Use Drop down List | H2: Use Drop down List | J2: Number of | L2: Cost | N2: Total
B3: Grouping | C3: Item | D3: Location (Level) | E3: Subcategory 1 | F3: Subcategory 2 | G3: Priority | H3: First Year of Replacement (Year) | I3: Frequency of repairs & replacement in years | J3: Sq Ft/Linear Ft | K3: Units | L3: Per SF/Linear Ft | M3: Unit | O3: Soft Cost percentage Applied | P3: Total Cost after Percentage Applied (in today's dollars)
B4: Architecture & Interiors | C4: Locker Rooms - A,B, and C | D4: Service Level | E4: Refresh | F4: Locker Room interior finishes, fixtures, furniture, and equipment | G4: High | H4: 2026 | I4: 10 | J4: 5123 | L4: 60 | N4: =(M4*K4)+(L4*J4) -> 307380 | O4: 0.35 | P4: =(1+O4)*N4 -> 414963
B5: Architecture & Interiors | C5: Media Room | D5: Service Level | E5: Refresh | F5: Interior Finishes, ceiling, paint, flooring | G5: Medium | H5: 2029 | I5: 15 | J5: 3209 | L5: 60 | N5: =(M5*K5)+(L5*J5) -> 192540 | O5: 0.35 | P5: =(1+O5)*N5 -> 259929
B6: Architecture & Interiors | C6: Locker Room Corridor | D6: Service Level | E6: Refresh | F6: Paint and Flooring | G6: High | H6: 2026 | I6: 15 | J6: 1562 | L6: 20 | N6: =(M6*K6)+(L6*J6) -> 31240 | O6: 0.35 | P6: =(1+O6)*N6 -> 42174
B7: Architecture & Interiors | C7: Visiting Press | D7: Service Level | E7: Refresh | F7: Interior Finishes, ceiling, paint, flooring | G7: Medium | H7: 2029 | I7: 15 | J7: 500 | L7: 60 | N7: =(M7*K7)+(L7*J7) -> 30000 | O7: 0.35 | P7: =(1+O7)*N7 -> 40500
B8: Architecture & Interiors | C8: Trail Blazer's Family Room | D8: Service Level | E8: Renovation | F8: Interior Renovation | G8: Medium | H8: 2029 | I8: 20 | J8: 531 | L8: 500 | N8: =(M8*K8)+(L8*J8) -> 265500 | O8: 0.35 | P8: =(1+O8)*N8 -> 358425 | BP8: Arch | BT8: 20 | BV8: 0 | BX8: 0 | BY8: 0 | BZ8: =(BY8*BW8)+(BX8*BV8) -> 0 | CA8: 0.35 | CB8: =(1+CA8)*BZ8 -> 0
B9: Architecture & Interiors | C9: Trail Blazers Locker Room & Team Areas | D9: Service Level | E9: Renovation | F9: Interior Renovation | G9: Medium | H9: 2029 | I9: 15 | J9: 6534 | L9: 600 | N9: =(M9*K9)+(L9*J9) -> 3920400 | O9: 0.35 | P9: =(1+O9)*N9 -> 5292540
B10: Architecture & Interiors | C10: Restrooms/Family Area Restrooms | D10: Service Level | E10: Refresh | F10: Restroom finishes, fixtures, and accessories upgrades | G10: High | H10: 2026 | I10: 15 | J10: =736+547 -> 1283 | L10: 500 | N10: =(M10*K10)+(L10*J10) -> 641500 | O10: 0.35 | P10: =(1+O10)*N10 -> 866025 | BP10: Arch | BT10: 20 | BV10: 0 | BX10: 0 | BY10: 0 | BZ10: =(BY10*BW10)+(BX10*BV10) -> 0 | CA10: 0.35 | CB10: =(1+CA10)*BZ10 -> 0
B11: Architecture & Interiors | C11: Star Rooms | D11: Service Level | E11: Refresh | F11: Interior Finishes, paint & flooring | G11: High | H11: 2026 | I11: 10 | J11: =2884 -> 2884 | L11: 70 | N11: =(M11*K11)+(L11*J11) -> 201880 | O11: 0.35 | P11: =(1+O11)*N11 -> 272538
B12: Architecture & Interiors | C12: Star Rooms - Room F | D12: Service Level | E12: Renovation | F12: Interior Finishes and fixtures, ceiling, paint, flooring, Lighting | G12: High | H12: 2026 | I12: 10 | J12: 470 | L12: 70 | N12: =(M12*K12)+(L12*J12) -> 32900 | O12: 0.35 | P12: =(1+O12)*N12 -> 44415
B13: Architecture & Interiors | C13: Service Tunnel | D13: Service Level | E13: Repairs/ Refresh | F13: Patch, repair, and paint masonry walls | G13: Medium | H13: 2029 | I13: 5 | K13: 1 | M13: 50000 | N13: =(M13*K13)+(L13*J13) -> 50000 | O13: 0.35 | P13: =(1+O13)*N13 -> 67500
B14: Architecture & Interiors | C14: Courtside Club | D14: Service Level | E14: Refresh | F14: Amenity space Interior finish renovation | G14: Medium | H14: 2029 | I14: 10 | J14: 6065 | L14: 850 | N14: =(M14*K14)+(L14*J14) -> 5155250 | O14: 0.35 | P14: =(1+O14)*N14 -> 6959587.5
B15: Architecture & Interiors | C15: Doors and Hardware | D15: Service Level | E15: Replacement | F15: Doors and Hardware | G15: Medium | H15: 2029 | I15: 15 | K15: 225 | M15: 4000 | N15: =(M15*K15)+(L15*J15) -> 900000 | O15: 0.35 | P15: =(1+O15)*N15 -> 1215000
B16: Architecture & Interiors | C16: Loading Dock | D16: Service Level | E16: Replacement | F16: Dock Equipment Upgrade | G16: Medium | H16: 2029 | I16: 15 | K16: 1 | M16: 15000 | N16: =(M16*K16)+(L16*J16) -> 15000 | O16: 0.35 | P16: =(1+O16)*N16 -> 20250
B17: Architecture & Interiors | C17: Loading Dock | D17: Service Level | E17: Repairs | F17: Wall and Ceiling Repairs | G17: Medium | H17: 2029 | I17: 10 | K17: 1 | M17: 50000 | N17: =(M17*K17)+(L17*J17) -> 50000 | O17: 0.35 | P17: =(1+O17)*N17 -> 67500
B18: Architecture & Interiors | C18: Staff Locker and VIP Entrance | D18: Service Level | E18: Reconfiguration/ Renovation | F18: Interior Renovation | G18: Medium | H18: 2029 | I18: 20 | J18: 3153 | L18: 500 | N18: =(M18*K18)+(L18*J18) -> 1576500 | O18: 0.35 | P18: =(1+O18)*N18 -> 2128275
B19: Architecture & Interiors | C19: Staff Locker | D19: Service Level | E19: Refresh | F19: Paint and Ceilings | G19: Medium | H19: 2029 | I19: 10 | J19: 2757 | L19: 45 | N19: =(M19*K19)+(L19*J19) -> 124065 | O19: 0.35 | P19: =(1+O19)*N19 -> 167487.75
B20: Architecture & Interiors | C20: Staff Locker | D20: Service Level | E20: Replacement | F20: Shower and Restroom accessories | G20: Medium | H20: 2029 | I20: 10 | J20: 2757 | L20: 5 | N20: =(M20*K20)+(L20*J20) -> 13785 | O20: 0.35 | P20: =(1+O20)*N20 -> 18609.75
B21: Architecture & Interiors | C21: Laundry Room | D21: Service Level | E21: Replacement | F21: Appliance Replacement | G21: Low | H21: 2034 | I21: 10 | K21: 1 | M21: 50000 | N21: =(M21*K21)+(L21*J21) -> 50000 | O21: 0.35 | P21: =(1+O21)*N21 -> 67500
B22: Architecture & Interiors | C22: General - Wayfinding | D22: Service Level | E22: Refresh | F22: Environmental graphics and branding upgrades | G22: Medium | H22: 2029 | I22: 10 | K22: 1 | M22: 200000 | N22: =(M22*K22)+(L22*J22) -> 200000 | O22: 0.35 | P22: =(1+O22)*N22 -> 270000
